BEGIN:VCALENDAR
VERSION:2.0
PRODID:< http://www.open2c.de/ >
METHOD:PUBLISH
X-PUBLISHED-TTL:PT12H
BEGIN:VEVENT
CREATED:20191105T120523Z
LAST-MODIFIED:20191105T121513Z
GEO:0.000000,0.000000
DTSTAMP:20260425T141624Z
DTSTART:20191117T160000Z
DTEND:20191117T160000Z
CATEGORIES:Klassik-Konzerte
SUMMARY;CHARSET=UTF-8:Klassik-Soirée im C3\\":\\" \\"Abendempfindung\\" - Lieder und Kammermusik von Mozart bis Strauß
DESCRIPTION;CHARSET=UTF-8:Das C3 wird zum Konzertsaal\\":\\" Passend zum Herbst präsentieren Schleißheimer Musiker unter dem Titel „Abendempfindung“ Lieder und Kammermusikwerke rund um den Herbst\\, um (vergangene) Liebe und Leidenschaft.
 Zu hören sind ausgewählte Lieder und Duette von Wolfgang Amadeus Mozart\\, Franz Schubert\\, Felix Mendelssohn bis Richard Strauß. Abgerundet wird das gut einstündige Programm von Kammermusikwerken für Violine\\, Klavier sowie Horn von Beethoven bis Strauß.
  
 mit\\":\\" 
 Petra Hesina &amp\\; Doris Rohe\\, Sopran &amp\\; Horn
 Tobias Hunger\\, Tenor
 Raya Gronkova &amp\\; Christiane Müller\\, Violine
 Eckhard Sturm\\, Cello
 Felix Thalhammer &amp\\; Margit Kovacs\\, Klavier &amp\\; Cembalo
  
 Der Eintritt ist frei\\, Spenden sind willkommen.
 Im Anschluss Sektempfang. 
  
 Wegbeschreibung\\":\\" Ausgehend von der Mittenheimer Straße (Parallelstraße im Gewerbegebiet) befindet sich das C3 am Ende der Stichstraße neben der Firma „Linde“. Adresse\\":\\" Mittenheimer Str. 62\\, 85764 Oberschleißheim. 
LOCATION;CHARSET=UTF-8:C3 Tagungs- und Veranstaltungssaal der Schreiner Group
UID:c1d8ce4133b5a695c7895ffe1878fceb@f5733fa7955e83f24714ef230d4390a0
END:VEVENT
END:VCALENDAR