BEGIN:VCALENDAR
VERSION:2.0
PRODID:< http://www.open2c.de/ >
METHOD:PUBLISH
X-PUBLISHED-TTL:PT12H
BEGIN:VEVENT
CREATED:20190823T074654Z
LAST-MODIFIED:20200312T110859Z
GEO:0.000000,0.000000
DTSTAMP:20260419T131514Z
DTSTART:20200315T070000Z
DTEND:20200315T170000Z
CATEGORIES:Verschiedenes
SUMMARY;CHARSET=UTF-8:Kommunalwahl 2020
DESCRIPTION;CHARSET=UTF-8:Am Sonntag\\, den 15. März 2020 findet die Kommunalwahl  (Wahl des Gemeinderats sowie des Ersten Bürgermeisters) statt. 
 Sofern eine Stichwahl notwendig wird\\, ist der Termin dafür der 29. März 2020.
  
 Am 15. März 2020 ab 18\\":\\"00 Uhr werden wir auf folgenden Seiten die (vorläufigen) Ergebnisse der Kommunalwahlen 2020 veröffentlichen\\":\\"
  
 Bürgermeisterwahl\\":\\" https\\":\\"//wahl2020-buergermeister.gem-osh.de
 Gemeinderatswahl\\":\\" https\\":\\"//wahl2020-gemeinderat.gem-osh.de
 Kreistagswahl\\":\\" https\\":\\"//wahl2020-kreistag.gem-osh.de
 Landratswahl\\":\\" https\\":\\"//wahl2020-landrat.gem-osh.de
  
 (aktuell sind dort fiktive Zahlen eingestellt) 
LOCATION;CHARSET=UTF-8:
UID:1890f0c020a5b6b119b843aaa772be16@f5733fa7955e83f24714ef230d4390a0
END:VEVENT
END:VCALENDAR