BEGIN:VCALENDAR
VERSION:2.0
PRODID:< http://www.open2c.de/ >
METHOD:PUBLISH
X-PUBLISHED-TTL:PT12H
BEGIN:VEVENT
CREATED:20190708T111046Z
LAST-MODIFIED:20190708T111310Z
GEO:0.000000,0.000000
ORGANIZER;CN="Gemeinde Oberschleißheim"DTSTAMP:20260423T150355Z
DTSTART:20190724T170000Z
DTEND:20190724T170000Z
CATEGORIES:Veranstaltung
SUMMARY;CHARSET=UTF-8:Auftaktveranstaltung \\"Verkehrsentwicklungsplan\\"
DESCRIPTION;CHARSET=UTF-8:Der Verkehrsentwicklungsplan für Oberschleißheim startet - jeder ist eingeladen\\, bei der Vorstellung des Büros und der Auftaktveranstaltung zu diesem Projekt dabei zu sein. 
 Organisator   Gemeinde Oberschleißheim
LOCATION;CHARSET=UTF-8:Bürgersaal
UID:138eb35a1a64fcf4c1f4a50585eb2d31@f5733fa7955e83f24714ef230d4390a0
END:VEVENT
END:VCALENDAR