BEGIN:VCALENDAR
VERSION:2.0
PRODID:< http://www.open2c.de/ >
METHOD:PUBLISH
X-PUBLISHED-TTL:PT12H
BEGIN:VEVENT
CREATED:20190604T220000Z
LAST-MODIFIED:20190709T094032Z
GEO:0.000000,0.000000
ORGANIZER;CN="VHS Oberschleißheim e.V.":MAILTO:VHS Oberschleißheim
 Prof.-Otto-Hupp-Straße 26c
 85764 Oberschleißheim
 Telefon\\":\\"	089/3153806
 eMail\\":\\" 	kontakt@vhsosh.de
 Internet\\":\\" 	www.vhsosh.de
DTSTAMP:20260423T145247Z
DTSTART:20190710T170000Z
DTEND:20190710T170000Z
CATEGORIES:Konzerte allgemein
SUMMARY;CHARSET=UTF-8:Vorspielabend der Instrumental-\\, Gesangs- und Ballettklassen der VHS Oberschleißheim
DESCRIPTION;CHARSET=UTF-8:Die Instrumentalabteilung der VHS Oberschleißheim lädt alle Musikbegeisterten zu den inzwischen traditionell gewordenen Sommervorspielabenden im Bürgerzentrum ein.
  
 Unsere fortgeschrittene\\, talentierten InstrumentalschülerInnen\\, Gesangs- und BallettteilnehmerInnen haben zusammen mit ihren engagierten LehrerInnen für den Abend ein abwechslungsreiches und unterhaltsames Programm am unterschiedlichen Instrumente auf verschiedenen Niveaus\\, je nach Können der Schüler\\, vorbereitet und würden sich über zahlreiches Erscheinen sehr freuen.
  
 Der Eintritt ist frei\\, Spenden sind erwünscht.
 Organisator   VHS Oberschleißheim e.V.
 Kontakt   VHS Oberschleißheim
 Prof.-Otto-Hupp-Straße 26c
 85764 Oberschleißheim
 Telefon\\":\\"	089/3153806
 eMail\\":\\" 	kontakt@vhsosh.de
 Internet\\":\\" 	www.vhsosh.de
LOCATION;CHARSET=UTF-8:Bürgerhaus Oberschleißheim
 Theodor-Heuss-Straße 29\\, 
 85764 Oberschleißheim
UID:e1575fc3fa4c719c710c79bb2d9303a3@f5733fa7955e83f24714ef230d4390a0
END:VEVENT
END:VCALENDAR