BEGIN:VCALENDAR
VERSION:2.0
PRODID:< http://www.open2c.de/ >
METHOD:PUBLISH
X-PUBLISHED-TTL:PT12H
BEGIN:VEVENT
CREATED:20190503T101529Z
LAST-MODIFIED:20190722T081628Z
GEO:0.000000,0.000000
ORGANIZER;CN="Jugendfreizeitstätte Planet O in Kooperation mit der Gemeinde Oberschleißheim"DTSTAMP:20260423T145651Z
DTSTART:20190726T180000Z
DTEND:20190726T180000Z
CATEGORIES:Verschiedenes
SUMMARY;CHARSET=UTF-8:Open Air-Kino\\":\\" \\"Die fabelhafte Welt der Amelie\\"
DESCRIPTION;CHARSET=UTF-8:Der 2. Film in der Open-Air-Kino-Reihe 2019 ist der schon zum Klassiker gewordene zauberhafte französische Kino-Film\\":\\" \\"Die fabelhafte Welt der Amelie\\". Lachen &amp\\; Träumen ausdrücklich erlaubt!
  
 FSK 0
 Eintritt frei - Stühle sind vorhanden. Bei Regen im Planet 'O'.
 Getränke &amp\\; Popcorn gibt es zu günstigen Preisen im Planet 'O'.
 Organisator   Jugendfreizeitstätte Planet O in Kooperation mit der Gemeinde Oberschleißheim
LOCATION;CHARSET=UTF-8:Bürgerplatz
UID:763084d25038d4b1cdee705a2878abf6@f5733fa7955e83f24714ef230d4390a0
END:VEVENT
END:VCALENDAR