BEGIN:VCALENDAR
VERSION:2.0
PRODID:< http://www.open2c.de/ >
METHOD:PUBLISH
X-PUBLISHED-TTL:PT12H
BEGIN:VEVENT
CREATED:20190314T122207Z
LAST-MODIFIED:20190314T122703Z
GEO:0.000000,0.000000
ORGANIZER;CN="soziale Stadt\\, lokale Agenda 21"DTSTAMP:20260423T221102Z
DTSTART:20190323T080000Z
DTEND:20190323T120000Z
CATEGORIES:Veranstaltung
SUMMARY;CHARSET=UTF-8:Frühjahrsputz in Oberschleißheim - Ramadama
DESCRIPTION;CHARSET=UTF-8:Wir machen wieder Frühjahrsputz in Oberschleißheim. Am Samstag\\, den 23. März 2019 findet ein „Ramadama“ im Gemeindegebiet statt.
 Die Gemeinde Oberschleißheim würde sich freuen\\, wenn das große Saubermachen in Feld und Flur von möglichst vielen Bürgerinnen und Bürgern unterstützt würde.
 Treffpunkt ist um 9.00 Uhr am Bürgerzentrum. Die organisatorische Abwicklung\\, die Zuordnung der Sammelbereiche und Bereitstellung von Geräten erfolgt vor Ort. Gartenhandschuhe und Arbeitskleidung bitte mitbringen. Fahrzeuge\\, zumindest Fahrräder\\, sind wegen der entfernten Lage mancher Einsatzgebiete erwünscht. Die Aktion findet nur bei Dauerregen nicht statt. Selbstverständlich gibt es im Anschluss eine zünftige Brotzeit für die kleinen und großen Helfer!
 Organisator   soziale Stadt\\, lokale Agenda 21
LOCATION;CHARSET=UTF-8:Treffpunkt am Bürgerzentrum
UID:a3fe9bbe0ab7ce35f93a77855e420975@f5733fa7955e83f24714ef230d4390a0
END:VEVENT
END:VCALENDAR