BEGIN:VCALENDAR
VERSION:2.0
PRODID:< http://www.open2c.de/ >
METHOD:PUBLISH
X-PUBLISHED-TTL:PT12H
BEGIN:VEVENT
CREATED:20190226T100741Z
LAST-MODIFIED:20190226T101056Z
GEO:0.000000,0.000000
ORGANIZER;CN="Gemeinde Oberschleißheim\\, Kulturteam"DTSTAMP:20260423T221108Z
DTSTART:20190310T150000Z
DTEND:20190310T150000Z
CATEGORIES:Konzerte allgemein
SUMMARY;CHARSET=UTF-8:\\"Eine musikalische Reise um die Welt\\" - Suserl trifft Ali
DESCRIPTION;CHARSET=UTF-8:Soiree im Kulturcafe am Huppwald
  
 Die Fleckerteppich Musikvereinigung &amp\\; das Bläserteam der VHS singen und spielen Lieder und Tänze aus aller Welt unter dem Motto\\":\\" Heimat verbindet Menschen!
 Mit Saxophon\\, Alphorn\\, Querflöten\\, Blockflötenensemble\\, Harfe\\, Hackbrett\\, Gitarre und Gesang werden auch Wunschlieder in der jeweiligen Landessprache zum Mitsingen vorgetragen.
 Die Gruppe Fleckerlteppich besteht seit 15 Jahren und ist mittlerweile auf das Vierfache angewachsen. Der Name vereinigt die Musikanten der Gruppe Saitenspiel\\, der Gocklblock Musi und den Birkenstoaner. Ihr Anliegen ist es\\, möglichst vielen Kindern\\, Jugendlichen und auch Erwachsenen die Freude am „Musi spuin“ zu vermitteln. Die Abteilungsleiterin\\, Frau Sigrid M.Süss wird inzwischen von Monika Reichold unterstützt\\, die die Gruppe Hackbrett und Saitenzopfer leitet und von Laura Kellner\\, die das Gitarrenensemble übernommen hat.
 Das Musikprogramm von Fleckerlteppich spannt einen weiten Bogen von der leichten Klassik über Folklore und Schlager\\, hinüber zur Kirchenmusik und der Musik unserer Landschaft.
  
 Organisator   Gemeinde Oberschleißheim\\, Kulturteam
LOCATION;CHARSET=UTF-8:AWO Seniorenpark Oberschleißheim
UID:40967d1698bf777c85be9795d2d4de1f@f5733fa7955e83f24714ef230d4390a0
END:VEVENT
END:VCALENDAR