BEGIN:VCALENDAR
VERSION:2.0
PRODID:< http://www.open2c.de/ >
METHOD:PUBLISH
X-PUBLISHED-TTL:PT12H
BEGIN:VEVENT
CREATED:20190103T163328Z
LAST-MODIFIED:20190109T123435Z
GEO:0.000000,0.000000
ORGANIZER;CN="Lokale Agenda 21 - Projektgruppe Natur\\, zusammen mit BUND Naturschutz"DTSTAMP:20260423T105042Z
DTSTART:20191012T080000Z
DTEND:20191012T080000Z
CATEGORIES:Veranstaltung
SUMMARY;CHARSET=UTF-8:Landschaftspflegeaktion im Moos gemeinsam mit BUND Naturschutz zwischen Schleißheim und Dachau
DESCRIPTION;CHARSET=UTF-8:Magerrasenflächen und Streuobstwiesen bieten der Tier- und Pflanzenwelt einen besonderen Rückzugsort\\, um sich entwickeln zu können. Doch diese Flächen wollen behutsam und zur rechten Zeit gepflegt werden\\, damit sie nicht verbuschen und im Schatten von Sträuchern verschwinden. Dazu benötigen wir viele helfende Hände. Werkzeug wird gestellt. Feste Kleidung und Schuhwerk sind erforderlich. Aktion für die ganze Familie. 
 Pflegemaßnahme Streuobstwiese und angrenzender Magerrasen südlich B471 mit BUND Naturschutz
  
 Organisator   Lokale Agenda 21 - Projektgruppe Natur\\, zusammen mit BUND Naturschutz
LOCATION;CHARSET=UTF-8:Treffpunkt\\":\\" Parkplatz am Kalterbachweg / Streuobstwiese
UID:5851e616a1a925badf618d2431d785c5@f5733fa7955e83f24714ef230d4390a0
END:VEVENT
BEGIN:VEVENT
CREATED:20190806T123145Z
LAST-MODIFIED:20190806T123614Z
GEO:0.000000,0.000000
ORGANIZER;CN="Gemeinde Oberschleißheim"DTSTAMP:20260423T105042Z
DTSTART:20191015T170000Z
DTEND:20191015T170000Z
CATEGORIES:Verschiedenes
SUMMARY;CHARSET=UTF-8:Informationsveranstaltung mit Bürgerdialog \\"Gewerbestandorte\\"
DESCRIPTION;CHARSET=UTF-8:Bei einer Informationsveranstaltung der Gemeinde Oberschleißheim mit anschließendem Bürgerdialog am 15. Oktober 2019 um 19 Uhr im Bürgersaal Oberschleißheim wird die aktuelle Analyse zu potentiellen Gewerbestandorten in Oberschleißheim den Bürgerinnen und Bürgern vorgestellt.
 Nach der Präsentation durch das Fachbüro besteht die Möglichkeit\\, sich an den Thementischen zu Umwelt\\, Verkehr\\, Lärm und Ortsentwicklung näher zu informieren und eigene Anregungen/Aspekte vorzubringen. Der Bürgerdialog ist bei dieser Veranstaltung ausdrücklich erwünscht.
  
 
 
 
 
  
 Organisator   Gemeinde Oberschleißheim
LOCATION;CHARSET=UTF-8:Bürgersaal
UID:4ce36c7c456767723ee2cb7a7b73c056@f5733fa7955e83f24714ef230d4390a0
END:VEVENT
BEGIN:VEVENT
CREATED:20191018T074656Z
LAST-MODIFIED:20191018T075157Z
GEO:0.000000,0.000000
ORGANIZER;CN="Gesangverein Germania Schleißheim"DTSTAMP:20260423T105042Z
DTSTART:20191020T150000Z
DTEND:20191020T150000Z
CATEGORIES:Konzerte allgemein
SUMMARY;CHARSET=UTF-8:Chorkonzert\\":\\" Festival der Chöre
DESCRIPTION;CHARSET=UTF-8:Der Gesangverein Germania Schleißheim lädt herzlich ein zum \\"Festival der Chöre\\". Es wirken mit
 -  der Gesangverein Germania Schleißheim
 -  die\\"Vocalistas\\"
 -  \\"Munich Soul of Gospel\\"
 -  Felix Thalhammer am Klavier.
  
 Es gibt ein buntes modernes Programm von ABBA bis Gospels.
 Der Eintritt ist frei!
  
 Organisator   Gesangverein Germania Schleißheim
LOCATION;CHARSET=UTF-8:Bürgersaal Oberschleißheim
UID:413a6411e0193c4ef225228ee1cf8219@f5733fa7955e83f24714ef230d4390a0
END:VEVENT
BEGIN:VEVENT
CREATED:20191023T220000Z
LAST-MODIFIED:20191023T220000Z
GEO:0.000000,0.000000
ORGANIZER;CN="Förderverein St. Wilhelm"DTSTAMP:20260423T105042Z
DTSTART:20191027T103000Z
DTEND:20191027T123000Z
CATEGORIES:
SUMMARY;CHARSET=UTF-8:Frühschoppen des Förderverein St. Wilhelm
DESCRIPTION;CHARSET=UTF-8:Der Förderverein St. Wilhelm gibt auch für 2020 einen Schleißheimer Kalender heraus. Die kommende Ausgabe zeigt Gebäude\\, Plätze und Flecken der Schlössergemeinde\\, die deren Gesicht nachhaltig prägen und diese wirklich attraktiv machen. Das Team des Schleißheimer Kalenders hat eine bunte Mischung dieser zahlreichen Kleinode in Alt-Schleißheim\\, Lustheim\\, Mittenheim\\, der Ertl - Siedlung und natürlich im Schlosspark zusammengestellt. Zum 17. Mal in Folge kann ein Kalender vorgestellt werden\\, welcher Bekanntes und weniger Bekanntes der über 1250 Jahre alten Gemeinde porträtiert.
  
 Der Schleißheimer Kalender 2020 kostet 8\\,00 Euro und wird am 27. Oktober\\, 11.30 Uhr\\, nach dem Sonntagsgottesdienst auf einem Weißwurstfrühstück im Pfarrheim St. Wilhelm vorgestellt. Der Jahresbegleiter liegt bei Schreibwaren Heckenstaller\\, Am Stutenanger 6\\; Optik Partner K. Kloske\\, Feierabendstraße 53\\; Jürgen Malich Orthopädietechnik\\, Effnerstraße 3\\, Tourismus Schleißheim e.V.\\, Wilhelmshof 4\\, sowie im Pfarrbüro St. Wilhelm\\, Theodor-Heuss-Straße 25\\, zum Verkauf aus. Der Erlös des Kalenders\\, der auch dieses Jahr von der ortsansässigen Druckerei RK Medien hergestellt worden ist\\, kommt der Gemeindearbeit der Pfarrei St. Wilhelm und ihren sozialen Einrichtungen wie dem Kindergarten St. Wilhelm zugute.
 Organisator   Förderverein St. Wilhelm
LOCATION;CHARSET=UTF-8:Pfarrsaal St. Wilhelm
UID:868a9aef512ebc221c730f71351539bd@f5733fa7955e83f24714ef230d4390a0
END:VEVENT
BEGIN:VEVENT
CREATED:20190103T155817Z
LAST-MODIFIED:20190109T121311Z
GEO:0.000000,0.000000
ORGANIZER;CN="Lokale Agenda 21 - Projektgruppe Natur"DTSTAMP:20260423T105042Z
DTSTART:20191030T190000Z
DTEND:20191030T190000Z
CATEGORIES:Vorträge
SUMMARY;CHARSET=UTF-8:Vortrag Usbekistan
DESCRIPTION;CHARSET=UTF-8:Usbekistan ist für die Meisten von uns ein wenig bekanntes Gebiet. Der Biologe Werner Becker entführt uns in ein orientalisches Land mit seiner bewegten Geschichte sowie seinen Kulturschätzen und Naturschönheiten. Interessante Reiseeindrücke werden ergänzt durch den Blick auf die ökologische Situation der Region. Eintritt frei!
 Organisator   Lokale Agenda 21 - Projektgruppe Natur
LOCATION;CHARSET=UTF-8:Bürgerhaus Oberschleißheim\\, 1. Stock
UID:6aafb7a9aa8d4b2a4372f797d0821921@f5733fa7955e83f24714ef230d4390a0
END:VEVENT
END:VCALENDAR