BEGIN:VCALENDAR
VERSION:2.0
PRODID:< http://www.open2c.de/ >
METHOD:PUBLISH
X-PUBLISHED-TTL:PT12H
BEGIN:VEVENT
CREATED:20190103T161845Z
LAST-MODIFIED:20190524T083450Z
GEO:0.000000,0.000000
ORGANIZER;CN="Lokale Agenda 21 - Projektgruppe Natur\\, zusammen mit Delta Image"DTSTAMP:20260423T150543Z
DTSTART:20190602T070000Z
DTEND:20190602T093000Z
CATEGORIES:Wanderungen
SUMMARY;CHARSET=UTF-8:Schmetterlinge fotografieren bei der Flugwerft - Wanderung
DESCRIPTION;CHARSET=UTF-8:Wir beobachten und fotografieren die fliegenden Bewohner am ältesten Flugplatz in Bayern. Schmetterlinge sind Teil der artenreichen Naturlandschaft in den Heideflächen im Norden von München mit besonderen Standortbedingungen. Die Übergangsbereiche von Wald zur Heidelandschaft auf der Münchener Schotterebene am Rande des Flugplatzes bieten Lebensräume für unzählige Schmetterlinge.Gemeinsam können Kinder und Erwachsene verschiedene Schmetterlinge in der Naturlandschaft beobachten und fotografieren.Dabei wird Herr Eschbach\\, Fotograf\\, mit Rat und Tipps helfen tolle Naturbilder mit nach Hause zu nehmen.
  
 Gerne eigenen Fotoapparat bzw. Digitalkamera mitbringen!
 Organisator   Lokale Agenda 21 - Projektgruppe Natur\\, zusammen mit Delta Image
LOCATION;CHARSET=UTF-8:Treffpunkt\\":\\" Brücke im Süden vom Neuen Schloß Schleißheim (Südl. Schloßpavillon)
UID:833c54bea7f8efb706a40650266fa033@f5733fa7955e83f24714ef230d4390a0
END:VEVENT
BEGIN:VEVENT
CREATED:20190515T220000Z
LAST-MODIFIED:20190515T220000Z
GEO:0.000000,0.000000
ORGANIZER;CN="Musivereinigung Oberschleißheim e.V."DTSTAMP:20260423T150543Z
DTSTART:20190630T120000Z
DTEND:20190630T120000Z
CATEGORIES:
URL:http\\":\\"//www.musikvereinigung-oberschleissheim.de
SUMMARY;CHARSET=UTF-8:Kaffeekonzert der Musikvereinigung
DESCRIPTION;CHARSET=UTF-8:Musik zum Mitsingen im Maxmimilianshof
 
 Am 30. Juni präsentieren sich die verschiedenen Abteilungen der Musikvereinigung wieder bei einem Konzert mit Kaffee und Kuchen im Maximilianshof. Der Eintritt ist frei\\, Beginn ist um 14 Uhr. 
 Die Abteilungen haben in diesem Jahr den Fokus auf Titel gelegt\\, wo bekannte Texte gerne mitgesungen werden dürfen. Freuen Sie sich unter anderem auf Titel wie \\"Wir Musikanten\\" und den \\"Bozner Bergsteigermarsch\\".
 Gerne dürfen auch Decken mitgebracht werden\\, um es sich auf den Wiesen in der Nähe gemütlich zu machen und den musikalischen Darbietungen zu lauschen.
 Bei schlechter Witterung muss das Konzert leider ersatzlos ausfallen. Aus diesem Grund hat der Verein eine Infohotline eingerichtet. Unter 089/381 648 93 ist am Tag des Konzertes ab 10 Uhr zu erfahren\\, ob das Konzert stattfindet.
  
  
 Organisator   Musivereinigung Oberschleißheim e.V.
LOCATION;CHARSET=UTF-8:Maximilianshof
UID:734210c37ef5413d580be5924f2bd70f@f5733fa7955e83f24714ef230d4390a0
END:VEVENT
END:VCALENDAR