BEGIN:VCALENDAR
VERSION:2.0
PRODID:< http://www.open2c.de/ >
METHOD:PUBLISH
X-PUBLISHED-TTL:PT12H
BEGIN:VEVENT
CREATED:20190103T161356Z
LAST-MODIFIED:20190109T122307Z
GEO:0.000000,0.000000
ORGANIZER;CN="Lokale Agenda - Projektgruppe Natur\\, zusammen mit Delta Image"DTSTAMP:20260423T183223Z
DTSTART:20190519T120000Z
DTEND:20190519T140000Z
CATEGORIES:Wanderungen
SUMMARY;CHARSET=UTF-8:Naturkundliche Führung – Garchinger Heide und die Flugwerft – Wanderung
DESCRIPTION;CHARSET=UTF-8:Der Flugplatz Schleißheim wurde im Jahr 1944 im Zusammenhang mit der Autobahn A9 außerhalb des eigentlichen Flugplatzes als Start- und Landefeld für Nachtjäger und ME 262 erweitert. Durch den Rückbau der Rollfläche ab 1945 entwickelt sich eine besondere Pflanzengesellschaft in der Garchinger Heide.
 Organisator   Lokale Agenda - Projektgruppe Natur\\, zusammen mit Delta Image
LOCATION;CHARSET=UTF-8:Treffpunkt\\":\\" Parkplatz Baggersee am Hart\\, zwischen Eching und Dietersheim
UID:ea13917d44af574a72deb8b36bf27d70@f5733fa7955e83f24714ef230d4390a0
END:VEVENT
END:VCALENDAR