BEGIN:VCALENDAR
VERSION:2.0
PRODID:< http://www.open2c.de/ >
METHOD:PUBLISH
X-PUBLISHED-TTL:PT12H
BEGIN:VEVENT
CREATED:20190103T155019Z
LAST-MODIFIED:20190226T101143Z
GEO:0.000000,0.000000
ORGANIZER;CN="Lokale Agenda 21 - Projektgruppe Natur"DTSTAMP:20260423T221108Z
DTSTART:20190327T190000Z
DTEND:20190327T190000Z
CATEGORIES:Vorträge
SUMMARY;CHARSET=UTF-8:Vortrag Ostengland - 1000 Kilometer Küste
DESCRIPTION;CHARSET=UTF-8:Herr Hannes Heigl bereist seit Jahrzehnten die britische Insel. Von den Ufern der Themse über Cambridge nach East Anglia\\, von Peterborough über Lincoln nach York\\, von Rievaulx Abbey über die Moors nach Scarborough und Whitby und über Newcastle bis an die schottische Grenze nach Berwick-upon-Tweed geht die Reise von Süden nach Norden entlang der Ostküste von England. Begleiten Sie uns. Eintritt frei!
 Organisator   Lokale Agenda 21 - Projektgruppe Natur
LOCATION;CHARSET=UTF-8:Bürgerhaus Oberschleissheim\\, 1.Stock
UID:088b32bda8dfa3ba951a09a77ea13747@f5733fa7955e83f24714ef230d4390a0
END:VEVENT
END:VCALENDAR