BEGIN:VCALENDAR
VERSION:2.0
PRODID:< http://www.open2c.de/ >
METHOD:PUBLISH
X-PUBLISHED-TTL:PT12H
BEGIN:VEVENT
CREATED:20180905T092246Z
LAST-MODIFIED:20180905T093927Z
GEO:0.000000,0.000000
ORGANIZER;CN="BV Freising\\, BUND Naturschutz in Bayern e.V.\\, Lokale Agenda 21 Oberschleißheim\\, Team Agenda 21 Stadt Unterschleißheim"DTSTAMP:20260424T090340Z
DTSTART:20180913T173000Z
DTEND:20180913T173000Z
CATEGORIES:Vorträge
SUMMARY;CHARSET=UTF-8:AGENDA 21-Vortrag in der Stadtbibliothek Unterschleißheim\\":\\" Ultrafeinstaub - die unsichtbare Gefahr
DESCRIPTION;CHARSET=UTF-8:Während Stickoxide und Feinstaub schon lange in der öffentlichen Diskussion stehen\\, wurde die Wirkung von Ultrafeinstaub in der Außenluft auf die menschliche Gesundheit bisher wenig erforscht. Dabei verhält sich Ultrafeinstaub\\, das sind ultrafeine Partikel (UFP) mit Partikeldurchmessern von weniger als 100 Nanometer\\, wegen seiner geringen Größe und Masse in der Luft ähnlich wie Gasmoleküle. Wegen ihrer geringen Größe können diese Partikel besonders tief in die menschliche Lunge eindringen und von dort sogar direkt in die menschliche Blutbahn gelangen - mit unüberschaubaren Auswirkungen auf die Gesundheit!
 Organisator   BV Freising\\, BUND Naturschutz in Bayern e.V.\\, Lokale Agenda 21 Oberschleißheim\\, Team Agenda 21 Stadt Unterschleißheim
LOCATION;CHARSET=UTF-8:Stadtbibliothek Unterschleißheim\\, Rathausplatz 1\\, 85716 Unterschleißheim
UID:ef9619bbd9934b61da26f057494bd58a@f5733fa7955e83f24714ef230d4390a0
END:VEVENT
END:VCALENDAR