BEGIN:VCALENDAR
VERSION:2.0
PRODID:< http://www.open2c.de/ >
METHOD:PUBLISH
X-PUBLISHED-TTL:PT12H
BEGIN:VEVENT
CREATED:20180904T093539Z
LAST-MODIFIED:20180904T094509Z
GEO:0.000000,0.000000
ORGANIZER;CN="Gemeindebücherei Oberschleißheim"DTSTAMP:20260424T085407Z
DTSTART:20180907T170000Z
DTEND:20180907T183000Z
CATEGORIES:Ausstellungen
SUMMARY;CHARSET=UTF-8:Ausstellungseröffnung \\"Bayern 1918/19 - Revolution!\\"
DESCRIPTION;CHARSET=UTF-8:Bayern wird 100 Jahre - Anlass für die Gemeindebücherei\\, eine Ausstellung zum Thema \\"Revolution! Bayern 1918/29\\" zu zeigen. Zu sehen sind historische Fotografien aus dem Ort aus den Revolutionsjahren 1918/19.
 Die Ausstellung ist bis Montag\\, 24. September 2018 im Bürgerhaus zu sehen.
  
 Außerdem gibt's auch Aktionen zur Ausstellung für Kinder beim Bürgerfest am Sonntag\\, 9.9.2018 von 12-18 Uhr im Bürgerhaus.
  
 Schließlich findet am Donnerstag\\, 13. September um 19.30 Uhr eine Lesung \\"Zeitenwende - Kultur und Gesellschaft\\" zur Ausstellung statt.
  
 Herzliche Einladung an alle kulturell und geschichtlich interessierten Mitbürgerinnen und Mitbürger!
 Organisator   Gemeindebücherei Oberschleißheim
LOCATION;CHARSET=UTF-8:Bürgerhaus
UID:0749f1f3b724303f822caafbf390883f@f5733fa7955e83f24714ef230d4390a0
END:VEVENT
END:VCALENDAR