BEGIN:VCALENDAR
VERSION:2.0
PRODID:< http://www.open2c.de/ >
METHOD:PUBLISH
X-PUBLISHED-TTL:PT12H
BEGIN:VEVENT
CREATED:20180712T123743Z
LAST-MODIFIED:20180712T124046Z
GEO:0.000000,0.000000
ORGANIZER;CN="Lokale Agenda 21 - Projektgruppe Natur"DTSTAMP:20260424T085738Z
DTSTART:20180926T180000Z
DTEND:20180926T180000Z
CATEGORIES:Vorträge
SUMMARY;CHARSET=UTF-8:Geheimnisvolles Schottland
DESCRIPTION;CHARSET=UTF-8:Herr Hannes Heigl zeigt uns bei seinen Geschichten die Schönheit von Schottland mit viel Natur und wandert mit uns zu den Glens und Bens\\, den Lochs und den Clans\\, zu Steinkreisen und Palmen. Begleiten Sie uns.
 Eintritt frei! 
 Organisator   Lokale Agenda 21 - Projektgruppe Natur
LOCATION;CHARSET=UTF-8:Bürgerzentrum\\, 1. Stock
UID:b0b5361950a440dba54903dbdfb47c2e@f5733fa7955e83f24714ef230d4390a0
END:VEVENT
END:VCALENDAR