BEGIN:VCALENDAR
VERSION:2.0
PRODID:< http://www.open2c.de/ >
METHOD:PUBLISH
X-PUBLISHED-TTL:PT12H
BEGIN:VEVENT
CREATED:20180712T122638Z
LAST-MODIFIED:20180712T124238Z
GEO:0.000000,0.000000
ORGANIZER;CN="Lokale Agenda 21 - Projektgruppe Natur\\, Delta Image / Deutsches Museum\\, BUND"DTSTAMP:20260424T124742Z
DTSTART:20180715T120000Z
DTEND:20180715T140000Z
CATEGORIES:Ausflüge
SUMMARY;CHARSET=UTF-8:Naturkundliche Exkursion im Süden der Flugwerft Schleißheim - Natur und Flugplatz
DESCRIPTION;CHARSET=UTF-8:Das Gelände des Flugplatzes ist Natura 2000 Gelände und steht unter europäischem Naturschutz. Die Magerrasenflächen sind Teil des Heideflächenverbundes im Norden von München. Bei dieser Exkursion werden aus verschiedenen Blickwinkeln das Zusammenspiel zwischen historischer Flugplatznutzung und der Entwicklung von Flora und Fauna am Flugplatz aufgezeigt.
 Dies ist eine gemeinsame Aktion mit Referenten von Delta Image / Deutsches Museum\\, Bund Naturschutz und AGENDA 21
 Organisator   Lokale Agenda 21 - Projektgruppe Natur\\, Delta Image / Deutsches Museum\\, BUND
LOCATION;CHARSET=UTF-8:Treffpunkt\\":\\" Brücke im Süden vom Neuen Schloß Schleißheim (Südl. Schloßpavillon)
UID:38179d926f924eb508d9164aa4f6859a@f5733fa7955e83f24714ef230d4390a0
END:VEVENT
END:VCALENDAR