BEGIN:VCALENDAR
VERSION:2.0
PRODID:< http://www.open2c.de/ >
METHOD:PUBLISH
X-PUBLISHED-TTL:PT12H
BEGIN:VEVENT
CREATED:20260424T112701Z
LAST-MODIFIED:20260424T113139Z
GEO:0.000000,0.000000
ORGANIZER;CN="BUND Naturschutz Schleißheim":MAILTO:BUND Naturschutz Schleißheim
DTSTAMP:20260425T105230Z
DTSTART:20260424T150000Z
DTEND:20260424T170000Z
CATEGORIES:Vorträge
SUMMARY;CHARSET=UTF-8:Biotoppflege auf der Orchideenwiese am Schwarzhölzl
DESCRIPTION;CHARSET=UTF-8:Organisator   BUND Naturschutz Schleißheim
 Kontakt   BUND Naturschutz Schleißheim
LOCATION;CHARSET=UTF-8:Quartiersladen WIR Oberschleißheim\\, Am Stutenanger 6.
UID:f14b9e23dfe4fd2012f2f3e8282159f9@f5733fa7955e83f24714ef230d4390a0
END:VEVENT
END:VCALENDAR