BEGIN:VCALENDAR
VERSION:2.0
PRODID:< http://www.open2c.de/ >
METHOD:PUBLISH
X-PUBLISHED-TTL:PT12H
BEGIN:VEVENT
CREATED:20260203T102917Z
LAST-MODIFIED:20260203T103107Z
GEO:0.000000,0.000000
ORGANIZER;CN="Gemeinde Oberschleißheim"DTSTAMP:20260421T160404Z
DTSTART:20260210T183000Z
DTEND:20260210T183000Z
CATEGORIES:Verschiedenes
SUMMARY;CHARSET=UTF-8:Sondersitzung des Gemeinderats zum Thema \\"Hallenbad\\"
DESCRIPTION;CHARSET=UTF-8:Sondersitzung zum Thema Hallenbad 
 Organisator   Gemeinde Oberschleißheim
LOCATION;CHARSET=UTF-8:Bürgersaal Oberschleißheim
UID:b3d7ed48c24a23d994501fb4adfecf4e@f5733fa7955e83f24714ef230d4390a0
END:VEVENT
BEGIN:VEVENT
CREATED:20200204T111023Z
LAST-MODIFIED:20260113T122539Z
GEO:0.000000,0.000000
ORGANIZER;CN="Gemeinde Oberschleißheim & Vereine"DTSTAMP:20260421T160404Z
DTSTART:20260215T120000Z
DTEND:20260215T120000Z
CATEGORIES:Fasching
SUMMARY;CHARSET=UTF-8:Faschingstreiben am Bürgerplatz
DESCRIPTION;CHARSET=UTF-8:Auf gehts zum bunten Faschingstreiben der Gemeinde und der Schleißheimer Vereine am Faschingssonntag am Bürgerplatz!
 Es gibt es wie immer ein tolles Showprogramm des Schleißheimer Narrenrats und der Narrhalla Oberschleißheim\\, dazu Party-Musik vom DJ. Fürs leibliche Wohl ist dank der Schleißheimer Vereine bestens gesorgt! 
  
 Programm/Auftritte Faschingstreiben\\":\\"   13 Uhr                Eröffnung durch Ersten Bgm. Markus Böck  13.05 - 13.15 Uhr     Showprogramm des SNR\\, Garde und Kurfürstenpaar  13.15 - 13.30 Uhr     Musikblock  13\\":\\"30 - 13\\":\\"50 Uhr     Showprogramm der NOS Kids  13\\":\\"50 - 14\\":\\"05 Uhr     Musikblock  14\\":\\"05 - 14\\":\\"35 Uhr     Showprogramm der NOS Erwachsenen  14\\":\\"30 - 15\\":\\"45 Uhr     Musikblock 16\\":\\"15 - 16\\":\\"45 Uhr     SNR Kinder und Erwachsene - Showprogramm  16\\":\\"45 - 18.00 Uhr     Musikblock
  
 Vereine finden hier das Formular für die Anmeldung eines Verkaufsstands. 
 Organisator   Gemeinde Oberschleißheim & Vereine
LOCATION;CHARSET=UTF-8:Bürgerplatz
UID:c1487f3cdda92dd22c6a504a14187315@f5733fa7955e83f24714ef230d4390a0
END:VEVENT
BEGIN:VEVENT
CREATED:20260213T094018Z
LAST-MODIFIED:20260213T094232Z
GEO:0.000000,0.000000
ORGANIZER;CN="Gemeindebücherei Oberschleißheim"DTSTAMP:20260421T160404Z
DTSTART:20260226T183000Z
DTEND:20260226T183000Z
CATEGORIES:Lesung
SUMMARY;CHARSET=UTF-8:Lesung \\"Schattenbauten\\" von Su Turhan
DESCRIPTION;CHARSET=UTF-8:Der erfolgreiche Drehbuchautor und Schriftsteller Su Turhan liest aus seinem neuesten Kriminalroman „Schattenbauten“ über den Münchner Kommissar Zeki Demirbilek.
  
 Nach einem verheerenden Erdbeben in Istanbul liegt Zeki Demirbileks Ex-Frau Selma schwer verletzt in der Klinik. Er selbst überlebt nur knapp und kehrt tief erschüttert nach München zurück. Dort wartet bereits der nächste Fall auf Kommissar Pascha und sein vertrautes Team um Isabel Vierkant und Pius Leipold. Ein Bauleiter der Muc-Bauten kommt auf einer Prestige-Baustelle auf ungeklärte Weise ums Leben. Spuren gibt es kaum\\, ein KI-gesteuerter Putzroboter hat den Tatort gründlich gereinigt. Noch während die Ermittlungen anlaufen\\, wird der Buchhalter der Firma in seiner Luxuswohnung brutal ermordet. Ein Zusammenhang der beiden Fälle scheint weit hergeholt.
 Doch spätestens als im Tresor des ersten Opfers verschlüsselte Akten gefunden werden\\, glauben die Ermittler an keinen Zufall mehr. Mit raffinierter Polizeiarbeit wird Puzzleteil um Puzzleteil zusammengesetzt\\, bis sich die Hinweise auf ein System aus Korruption\\, Verschleierung und kriminellen Verflechtungen verdichten.
 Für Zeki wird der Fall schnell persönlich. Die Spuren führen zurück nach Istanbul\\, zu einem Bauprojekt\\, das beim Erdbeben in sich zusammenstürzte. Aylin Yilmaz\\, eine Aktivistin mit gefährlichen Informationen\\, weiß mehr\\, als sie sagen darf. Während sie mit ihren Freunden um Aufklärung und Gerechtigkeit kämpft\\, gerät Zeki nicht nur als Kommissar\\, sondern auch als Mensch unter Druck.
 Ein neuer Fall für Kommissar Pascha – brisant\\, emotional und hochaktuell.
  
 Donnerstag\\, 26.02.2026\\, 19\\":\\"30 Uhr 
 Gemeindebücherei Oberschleißheim
 Eintritt 5€ 
 Tickets in der Gemeindebücherei 
  
 Organisator   Gemeindebücherei Oberschleißheim
LOCATION;CHARSET=UTF-8:Gemeindebücherei Oberschleißheim
UID:e4f886390ec365371514d18b82c8e948@f5733fa7955e83f24714ef230d4390a0
END:VEVENT
BEGIN:VEVENT
CREATED:20260213T094239Z
LAST-MODIFIED:20260213T094411Z
GEO:0.000000,0.000000
ORGANIZER;CN="Gemeindebücherei Oberschleißheim"DTSTAMP:20260421T160404Z
DTSTART:20260227T150000Z
DTEND:20260227T150000Z
CATEGORIES:Kinder
SUMMARY;CHARSET=UTF-8:Kinderbuch-Lesung\\":\\" \\"Timmy Ton und die Reise durchs Ohr\\"
DESCRIPTION;CHARSET=UTF-8:Wie funktioniert eigentlich das Hören? Diese Frage beschäftigt auch Tim\\, als er im Bett liegt und sein Lieblingslied zum Einschlafen hört. Im Traum wird er zu Timmy Ton und begibt sich auf eine abenteuerliche Reise durch das Ohr. Christina Setzmüller (Fachärztin im HNO Zentrum Oberschleißheim) erzählt eine spannende Geschichte\\, in der spielerisch und kindergerecht erklärt wird\\, wie das Hören funktioniert
  
 Genauere Infos zum Buch gibt es unter www.timmyton.de.
  
 Im Anschluss an die Lesung besteht die Möglichkeit\\, das Buch zu erwerben.
  
 Freitag\\, 27.02.2026\\, 16\\":\\"00 Uhr 
 Konferenzraum im Bürgerzentrum
 Eintritt frei
 Anmeldung in der Gemeindebücherei
 Organisator   Gemeindebücherei Oberschleißheim
LOCATION;CHARSET=UTF-8:Konferenzraum im Bürgerhaus (EG)
UID:2079cb2c96bdc032b3c74f0bf4d5ae0f@f5733fa7955e83f24714ef230d4390a0
END:VEVENT
BEGIN:VEVENT
CREATED:20260130T100708Z
LAST-MODIFIED:20260217T111900Z
GEO:0.000000,0.000000
ORGANIZER;CN="Lokale AGENDA 21 Oberschleißheim PG Energie
 Klimaneutral 2025 PG Energie":MAILTO:Keine Anmeldung erforderlich
DTSTAMP:20260421T160404Z
DTSTART:20260227T160000Z
DTEND:20260227T173000Z
CATEGORIES:Vorträge
SUMMARY;CHARSET=UTF-8:Wärmepumpen - Änderung bei Zuschüssen
DESCRIPTION;CHARSET=UTF-8:Wärmepumpen – Änderung bei Zuschüssen
 Andreas Turloff und Johannes Heigl von der Lokalen Agenda 21 / Klimaneutral 2035 - Projektgr. „Energie“\\, informieren und beraten zur Finanzierung sowie allerlei Wissenswertem zum Einbau von Wärmepumpen.
 Wenn Sie schnell und einfach Aktuelles dazu erfahren wollen\\, kommen Sie vorbei im Quartiersladen WIR.
 Organisator   Lokale AGENDA 21 Oberschleißheim PG Energie
 Klimaneutral 2025 PG Energie
 Kontakt   Keine Anmeldung erforderlich
LOCATION;CHARSET=UTF-8:Quartiersladen WIR - OSH - Am Stutenanger 6
UID:c46ea95425f5954360ba942b0aab8888@f5733fa7955e83f24714ef230d4390a0
END:VEVENT
END:VCALENDAR