BEGIN:VCALENDAR
VERSION:2.0
PRODID:< http://www.open2c.de/ >
METHOD:PUBLISH
X-PUBLISHED-TTL:PT12H
BEGIN:VEVENT
CREATED:20260109T085654Z
LAST-MODIFIED:20260109T085834Z
GEO:0.000000,0.000000
DTSTAMP:20260423T233302Z
DTSTART:20260124T090000Z
DTEND:20260124T090000Z
CATEGORIES:Verschiedenes
SUMMARY;CHARSET=UTF-8:Schleißheim musiziert - Infotermin am 24.01.2026 in der VHS
DESCRIPTION;CHARSET=UTF-8:Gleich zu Beginn des neuen Jahres öffnet sich in Oberschleißheim eine neue Tür zur Musik\\":\\" Iris Vogel lädt in Kooperation mit der VHS Oberschleißheim herzlich zum offenen Mitmachprojekt ein.
  
 Egal ob jung oder erwachsen\\, Hobbymusiker oder Profi – alle\\, die Freude am gemeinsamen Musizieren haben\\, sind willkommen! Zusammen werden zwei beliebte Werke einstudiert\\":\\" die fröhliche „Kindersinfonie“ von Edmund Angerer und der weltbekannte „Kanon“ von Johann Pachelbel.
 Mitspielen können fast alle Instrumente\\":\\" Streicher\\, Holz- und Blechbläser\\, Percussion\\, aber auch Gitarre\\, Akkordeon oder Klavier. Entscheidend ist nicht Perfektion\\, sondern die Lust am Miteinander-Klingen.
  
 Los geht es ganz unverbindlich mit einem Infotreffen am Samstag\\, 24. Januar 2026\\, um 10\\":\\"00 Uhr in der VHS Oberschleißheim. Im Anschluss finden vier Proben statt\\":\\" am 7. und 28. Februar sowie am 7. und 14. März 2026\\, jeweils von 10\\":\\"00 bis 12\\":\\"00 Uhr.
  
 Für die Teilnahme an den Proben ist eine Anmeldung bis spätestens 2. Februar 2026 erforderlich. Der Unkostenbeitrag beträgt 10\\,00 Euro.
  
 Der krönende Abschluss des Projekts ist eine gemeinsame Aufführung\\, die für den Sonntag\\, 15. März 2026 geplant ist.
 Anmeldung\\":\\" musik@vhsosh.de
 Rückfragen\\":\\" ivogel@ebmuc.de
 Wir freuen uns auf viele Mitmusizierende und wünschen allen ein gutes und klangvolles neues Jahr!
  
LOCATION;CHARSET=UTF-8:
UID:39e2f2c95baa42e94e171556059316df@f5733fa7955e83f24714ef230d4390a0
END:VEVENT
BEGIN:VEVENT
CREATED:20260113T122101Z
LAST-MODIFIED:20260113T124201Z
GEO:0.000000,0.000000
ORGANIZER;CN="Gewerbeverband Oberschleißheim"DTSTAMP:20260423T233302Z
DTSTART:20260128T180000Z
DTEND:20260128T180000Z
CATEGORIES:Verschiedenes
SUMMARY;CHARSET=UTF-8:Podiumsdiskussion zur Bürgermeisterwahl
DESCRIPTION;CHARSET=UTF-8:Der Gewerbeverband Oberschleißheim lädt ein zur Podiumsdiskussion mit den Bürgermeisterkandidaten im Bürgerhaus Oberschleißheim.
  
 Einlass 18\\":\\"30 Uhr 
 Beginn 19\\":\\"00 Uhr 
 Bürgerhaus Oberschleißheim
  
 Nutzen Sie die Gelegenheit\\, Ihre Fragen an die Kandidaten zu stellen. Themen die unsere Gemeinde bewegen sind z.B. 
 - Infrastruktur und Verkehr in Oberschleißheim
 - Wirtschaftliche Entwicklung 
 - Soziale Projekte udn gemeinschaftliches Leben
 - Parteiprogramme und Zukunftspläne für unsere Gemeinde 
  
 Alle Bürgerinnen und Bürger sind herzlich eingeladen\\, ihre Fragen\\, Anliegen und Anregungen vorab mitzuteilen durch Einwurf in die Sammelboxen an den beiden Apotheken (Delphinapotheke\\, Phönixapotheke) oder per Mail an podiumsdiskussion(at)gewerbe-osh.de
  
 Durch den Abend führen\\":\\"
 Gönke Klar &amp\\; Gerhart Maier 
 Organisator   Gewerbeverband Oberschleißheim
LOCATION;CHARSET=UTF-8:Bürgerzentrum
UID:a729159324bed47e242ebf7e9ad24481@f5733fa7955e83f24714ef230d4390a0
END:VEVENT
END:VCALENDAR