BEGIN:VCALENDAR
VERSION:2.0
PRODID:< http://www.open2c.de/ >
METHOD:PUBLISH
X-PUBLISHED-TTL:PT12H
BEGIN:VEVENT
CREATED:20251022T061357Z
LAST-MODIFIED:20251022T062733Z
GEO:0.000000,0.000000
ORGANIZER;CN="Gemeinde Oberschleißheim und Remondis"DTSTAMP:20260424T214915Z
DTSTART:20251231T230000Z
DTEND:20261230T230000Z
CATEGORIES:Verschiedenes
SUMMARY;CHARSET=UTF-8:Giftmobilfahrplan für das Jahr 2026
DESCRIPTION;CHARSET=UTF-8: 
 Der Fahrplan des Giftmobils wurde in Absprache mit Remondis aktualisiert
  
  
 
 
 
 
 Oberschleißheim
 
 
 Oberschleißheim\\, Bürgerplatz vor dem Bürgerzentrum
 
 
 15\\":\\"30-16\\":\\"30 Uhr
 
 
 mittwochs
 21.01.26 // 11.02.26 // 11.03.26 // 22.04.26 // 27.05.26 // 24.06.26 //
 22.07.26 // 19.08.26 // 16.09.26 // 21.10.26 // 25.11.26 // 16.12.26
 
 
 
 
  
  
 Hinweis\\":\\" Es können nur haushaltsübliche Kleinmengen (maximale Gebindegröße 25 Liter oder 25 kg\\, maximal 2 Gebinde) angenommen werden.  Gewerbe- oder Dienstleistungsbetriebe dürfen maximal 500 kg Problemabfälle pro Jahr über das Giftmobil bzw. den Zweckverband München-Südost entsorgen!
 Übergeben Sie Ihre Problemabfälle bitte direkt dem Giftmobilpersonal!
 Stellen Sie nichts an den Straßenrand!
 Die Gefährlichkeit sieht man dem Abfall nicht an.
  
 Folgende Stoffe können beim Giftmobil abgegeben werden\\":\\"
 
 Arzneimittel\\, Kosmetika
 
 
 Arzneimittel und Kosmetika können auch zum Hausmüll gegeben werden. Stellen Sie sicher\\, dass Kinder keinen Zugriff auf die Altmedikamente haben.
 
 
 Öl- und fetthaltige Abfälle
 
 
 Ölfilter\\, mineralische Fette (Altöl ist beim Handel zurückzugeben!)
 
 
 Quecksilber- und PCB-haltige Abfälle
 
 
 Thermometer\\, Quecksilberschalter\\, Leuchtstoffröhren\\, Energiesparlampen\\, PCB-haltige Kondensatoren
 
 
 Farben\\, Lacke\\, Klebstoffe
 
 Farbdosen\\, Tapetenkleister\\, Unterbodenschutz
  
 
 Pflanzen- und Schädlingsbekämpfungsmittel
 
 
 Ameisentod\\, Mottengift\\, Schimmeltötungsmittel\\, Holzschutzmittel
 
 
 Autowasch- und Pflegemittel
 
 
 Antibeschlagmittel\\, Autochrompflegemittel\\, Entfroster\\, Rostschutzmittel\\, Rostumwandler\\, Frostschutzmittel
 
 
 Säuren\\, Laugen\\, Salze\\, Chemikalien
 
 
 Fotochemikalien\\, Chemielabor-Kästen\\, Entwickler\\, Fixierer\\, Hobby-Chemikalien
 
 
 Lösungsmittel\\, -gemische
 
 
 Spiritus\\, Tri\\, Aceton\\, Glycerin\\, Fleckenentferner\\, Kaltreiniger\\, Waschbenzin\\, Terpentin\\, Verdünner\\, Abbeizmittel\\, Nitroverdünner\\, Reinigungsmittel\\, Lederpflegemittel\\, Imprägniermittel
 
 
 Batterien und Akkumulatoren
 
 
 Alle Batterien und Akkumulatoren können kostenlos beim Handel abgegeben werden!
 Quecksilberoxid-Knopfzellen\\, Nickel-Cadmium-Akkumulatoren\\, Alkali-Mangan-Batterien\\, Zink-Kohle-Batterien\\, Lithium-Batterien\\, Silberoxid-Batterien.
 Autobatterien sind beim Handel zurückzugeben (Pfandregelung)
 
 
 Haushaltsreiniger\\, Waschmittel\\, Spraydosen
 
 
 Metallputzmittel\\, Herdputzmittel\\, Backofenreiniger\\, WC-Reiniger\\, Abflußreiniger\\, Entkalker\\, Salmiakgeist\\, Waschmittel\\, Weichspüler\\, Fensterputzmittel\\, Fußbodenreinigungs- und Pflegemittel\\, Grillreiniger\\, Möbelpflege\\, Spraydosen\\, Silberputzmittel\\, Sanitärreiniger\\, Desinfektionsmittel.
 
  
 Nicht angenommen werden\\":\\"
 
 Abfälle aus Gewerbe und Industrie sowie Tierkadaver. Munition\\, Sprengkörper\\, pyrotechnische Artikel (z.B. Feuerwerkskörper) sind bei der Polizei abzugeben.
 Druckgasflaschen\\, Feuerlöscher und Altreifen sind beim Handel abzugeben.
 Asbestzementprodukte und künstliche Mineralfaserprodukte (Glaswolle\\, Steinwolle) sind über die Deponie Nordwest zu entsorgen.
 
  
  
 STÄNDIGE\\, GANZJÄHRIGE SAMMELSTELLE FÜR PROBLEMABFÄLLE\\":\\"
 Zweckverband München– Südost\\,  Haidgraben 1
 85521 Ottobrunn                  Telefon 089 608091– 0
  
 Öffnungszeiten\\":\\"  Montag bis Donnerstag   7\\":\\"00 – 19\\":\\"00 Uhr
                                Freitag                                 7\\":\\"00 – 12\\":\\"00 Uhr
  
  
 Organisator   Gemeinde Oberschleißheim und Remondis
LOCATION;CHARSET=UTF-8:Oberschleißheim
 Bürgerplatz vor dem Bürgerzentrum
UID:7d02f3d3e771e7895c331627926c4682@f5733fa7955e83f24714ef230d4390a0
END:VEVENT
BEGIN:VEVENT
CREATED:20251022T063008Z
LAST-MODIFIED:20251022T065048Z
GEO:0.000000,0.000000
ORGANIZER;CN="Gemeinde Oberschleißheim und VEOLIA Umweltservice Süd GmbH & Co.KG":MAILTO:Veolia
 Niederlassung Südbayern-BaWü
 Theodor-Heuss-Straße 111
 85221 Dachau
 Telefon\\":\\" 08131 - 512 0
DTSTAMP:20260424T214915Z
DTSTART:20251231T230000Z
DTEND:20261230T230000Z
CATEGORIES:Verschiedenes
SUMMARY;CHARSET=UTF-8:Leerungstermine der Papiertonne 2026
DESCRIPTION;CHARSET=UTF-8: 
 
 Organisator   Gemeinde Oberschleißheim und VEOLIA Umweltservice Süd GmbH & Co.KG
 Kontakt   Veolia
 Niederlassung Südbayern-BaWü
 Theodor-Heuss-Straße 111
 85221 Dachau
 Telefon\\":\\" 08131 - 512 0
LOCATION;CHARSET=UTF-8:
UID:19a5b69b461ca5f8e7a924aa972d75ca@f5733fa7955e83f24714ef230d4390a0
END:VEVENT
BEGIN:VEVENT
CREATED:20260316T201636Z
LAST-MODIFIED:20260316T202048Z
GEO:0.000000,0.000000
ORGANIZER;CN="Kooperation VHS mit Kulturteam Gemeinde Oberschleißheim":MAILTO:Organisation\\, Presse\\, Werbung
 Gaby Hohenberger\\, Tel.\\":\\" 089/ 3154175
 Tickets\\, Abendkasse\\, Homepage
 Kulturteam Oberschleißheim
 kultur@oberschleissheim.de
DTSTAMP:20260424T214915Z
DTSTART:20261016T180000Z
DTEND:20261016T203000Z
CATEGORIES:Konzerte allgemein
SUMMARY;CHARSET=UTF-8:Lucy van Kuhl & die Ex-Chord-Band\\, 16 Oktober\\, 20\\":\\"00 Uhr
DESCRIPTION;CHARSET=UTF-8:Wir leben in einer Zeit\\, in der oft die Verpackung wichtiger als der Inhalt scheint\\":\\" Jeder einfache Schokoriegel wird durch Werbung zum exklusiven Geschmacksevent\\, der Hausmeister bekommt statt einer Lohnerhöhung exklusiv den Titel Facilitymanager und die Liebe hüpft nicht mehr wie früher mit Amors zufälligem Pfeil\\, sondern maßgeschneidert und algorithmenbasiert über Tinder und Parship in unser Leben.Der deutsche Heinz Günter verpackt sich im Frankreichurlaub plötzlich in Ringelshirt und Baskenmütze und wundert sich\\, dass er trotz Baguette unter beiden Armen nicht als Jean Pierre gesehen wird…Verpackung ist eben nicht alles.
  
 Lucy van Kuhl verpackt ihre Erkenntnisse in ihrem fünften Programm auch äußerst geschickt\\":\\" Aberwitzige Betrachtungen werden in sanfte Klavierklänge gehüllt\\, winzigkleine Randbeobachtungen mit dem großen poetischen Vergrößerungsglas versehen und die Tristesse eines Altersheim verwandelt sich durch einen Mantel aus Fantasie plötzlich in eine mitreißende Ü80-Party. Zarte Melancholie trifft auf krachenden Unfug\\, klassisches Klavier auf Boogie Woogie\\, und wenn Sie glauben\\, dass sowas nicht miteinander harmoniert – Lucys überbordende Fantasie ist ein starkes leuchtendes Geschenkband\\, mit dem sie all das spielend leicht zusammenhält und – sehr geschickt verpackt.
  
 Lucy wird begleitet von der Es-Cord-Band mit Lorenzo Riessler (Schlagzeug) und Nenad Uskokovic (Schlagzeug).
 Lorenzo Riessler wurde in Florenz geboren. Er ist mit seiner Band „Lorenzo Riessler Ensemble“ international unterwegs und spielt außerdem mit allerhand Jazz-Größen (u.a. Howard Levy\\, Jean-Louis Matinier\\, Michael Riessler\\, Pierre Charial).
 Nenad Uskokovic\\, Violoncello Nenad Uskokovic ist ein musikalischer Tausendsassa. Er wurde in Belgrad geboren. Nach zahlreichen internationalen Preisen im klassischen Bereich begann er\\, sich mit allen möglichen Musikstilen auseinanderzusetzen. So tourt er in verschiedenen Ensembles durch die Welt\\, als Solist\\, im Duo oder in Kammerorchestern. Seit er in Konstantin Weckers „Weltenbrand-Orchester“ mitspielt\\, begeistert er sich auch für deutsche Lieder. So kam die Zusammenarbeit mit Lucy van Kuhl zustande.
  
 Karten gibt es im Vorverkauf bei Münchenticket\\, in der Gemeindebücherei oder Schreibwaren am Schloss!
 Organisator   Kooperation VHS mit Kulturteam Gemeinde Oberschleißheim
 Kontakt   Organisation\\, Presse\\, Werbung
 Gaby Hohenberger\\, Tel.\\":\\" 089/ 3154175
 Tickets\\, Abendkasse\\, Homepage
 Kulturteam Oberschleißheim
 kultur@oberschleissheim.de
LOCATION;CHARSET=UTF-8:Saal im Bürgerzentrum Oberschleißheim
UID:d4146acefff96545afab654c6b8aff1d@f5733fa7955e83f24714ef230d4390a0
END:VEVENT
BEGIN:VEVENT
CREATED:20260424T151610Z
LAST-MODIFIED:20260424T153011Z
GEO:0.000000,0.000000
ORGANIZER;CN="BUND Naturschutz Schleißheim\\,"DTSTAMP:20260424T214915Z
DTSTART:20261017T080000Z
DTEND:20261017T120000Z
CATEGORIES:Verschiedenes
SUMMARY;CHARSET=UTF-8:Mahd der Orchideenwiese am Schwarzhölzl
DESCRIPTION;CHARSET=UTF-8:Organisator   BUND Naturschutz Schleißheim\\,
LOCATION;CHARSET=UTF-8:Parkplatz am Kalterbachweg / Streuobstwiese
UID:7472ee7bcae9aa768deda8f80d5dc669@f5733fa7955e83f24714ef230d4390a0
END:VEVENT
END:VCALENDAR