BEGIN:VCALENDAR
VERSION:2.0
PRODID:< http://www.open2c.de/ >
METHOD:PUBLISH
X-PUBLISHED-TTL:PT12H
BEGIN:VEVENT
CREATED:20251020T220000Z
LAST-MODIFIED:20251020T220000Z
GEO:0.000000,0.000000
ORGANIZER;CN="Schleißheimer Tauschring
 http\\":\\"//www.schleissheimer-tauschring.de":MAILTO:Ansprechpartner\\":\\" Helga Bauer Tel.\\":\\" 089 - 315 53 46
 info@schleissheimer-tauschring.de
DTSTAMP:20260421T160134Z
DTSTART:20260618T170000Z
DTEND:20260618T193000Z
CATEGORIES:
URL:http\\":\\"//www.schleissheimer-tauschring.de
SUMMARY;CHARSET=UTF-8:Schleißheimer Tauschring SHT
DESCRIPTION;CHARSET=UTF-8:Tauschring für Ober- und Unterschleißheim Für die Schleißheimer gibt es einen lokalen Tauschring. Hier werden bargeldlos Dienstleistungen getauscht\\, wie es sonst unter Freunden üblich ist.
  
 Können Sie z.B.\\":\\"
 
 weißeln und renovieren\\,
 bügeln\\,
 Nachhilfe geben\\,
 gut kochen\\,
 PC-Hilfe leisten oder
 Elektrogeräte reparieren?
 
 Suchen Sie jemanden z.B.\\":\\"
 
 zum Autofahren oder -waschen\\,
 zur Gartenpflege\\,
 zum Vorlesen\\,
 zum Feste organisieren\\,
 zum Plätzchen backen oder
 als Baby- oder Tiersitter?
 
 Dann sind Sie im TAUSCHRING herzlich willkommen!
 Durch einen Tauschring werden Menschen ermutigt\\, ihre Fähigkeiten für andere einzusetzen. Tauschringe geben Selbstvertrauen und schaffen Freundschaften. Machen Sie etwas\\, das Ihnen Spaß macht. Entdecken Sie Ihre kreativen Fähigkeiten!
 Ein Tauschring lebt von der Anzahl und den Ideen seiner Mitglieder. Je mehr Mitglieder\\, desto vielfältiger sind die Angebote und Gesuche. Machen auch SIE mit!
 Organisator   Schleißheimer Tauschring
 http\\":\\"//www.schleissheimer-tauschring.de
 Kontakt   Ansprechpartner\\":\\" Helga Bauer Tel.\\":\\" 089 - 315 53 46
 info@schleissheimer-tauschring.de
LOCATION;CHARSET=UTF-8:Quartiersladen \\"WIR\\" der Sozialen Stadt Parksiedlung\\, Am Stutenanger 6\\, 85764 Oberschleißheim
UID:681b4e9ed4973b2779d2a0feebdc2c30@f5733fa7955e83f24714ef230d4390a0
END:VEVENT
BEGIN:VEVENT
CREATED:20260107T201510Z
LAST-MODIFIED:20260107T201708Z
GEO:0.000000,0.000000
ORGANIZER;CN="Gemeinde Oberschleißheim\\, Kulturteam":MAILTO:Organisation\\, Presse\\, Werbung
 Gaby Hohenberger\\, Tel.\\":\\" 089/ 3154175
 Tickets\\, Abendkasse\\, Homepage
 Kulturteam Oberschleißheim
 kultur@oberschleissheim.de
DTSTAMP:20260421T160134Z
DTSTART:20260628T090000Z
DTEND:20260628T113000Z
CATEGORIES:Konzerte allgemein
SUMMARY;CHARSET=UTF-8:Cobario - Strings on Fire! - Sonntagsmatinée Schloss Schleißheim\\, 28. Juni\\, 11\\":\\"00 Uhr
DESCRIPTION;CHARSET=UTF-8:28. Juni 11\\":\\"00 Uhr Speisesaal Schloss Schleißheim
   
 Sonntagsmatinée Schloss Schleißheim    
  
 Cobario - Strings on Fire!
 Mitreißende Rhythmen - orchestraler Sound - energiegeladene Show. Das erwartet das Publikum bei Cobarios neuem Programm \\"Strings on Fire!\\". Nicht selten sucht man nach dem Orchester - es sind tatsächlich nur die drei Musiker\\, Herwig Schaffner (Violine)\\, Peter Weiss (Gitarre) und Georg Aichberger (Gitarre)\\, welche die Bühne zum Beben bringen und dabei ein musikalisches Feuerwerk der Extraklasse zünden.
 Die Gitarrensaiten glühen\\, der Geiger verzaubert mit atemberaubender Virtuosität auf der Violine\\":\\" Mit der Energie ihrer Kompositionen zieht das Wiener Trio seit Jahren weltweit das Publikum in seinen Bann!
 Die neue\\, virtuose Show ist ein musikalischer Tanz mit dem Feuer. Bei der Komposition \\"Avanti\\" duellieren sich die beiden Gitarristen mit treibenden Riffs und spanischen Soli. Beim Titelsong \\"Strings On Fire\\" kommt es dann zum ultimativen Showdown - die Bühne bebt\\, das Publikum tobt. „Strings on Fire!“ bietet ein außergewöhnliches Konzerterlebnis. Saiten-Feuer frei!
  
 Über Cobario\\":\\"
 Das mehrfach ausgezeichnete Trio startete 2006 in Barcelona als Straßenmusikanten. Schon bald wurden Cobario auf Festivals und dann in die Konzerthäuser Europas\\, Nordamerikas und Asiens eingeladen. Mittlerweile haben die Wiener Musiker in über 30 Ländern konzertiert und das Publikum von New York bis Hong Kong begeistert.
 Oft genügen schon ein paar Takte in der ungewöhnlichen Besetzung aus Geige und zwei Gitarren\\, um eine wahre Explosion von Bildern im Kopf auszulösen. Der unwiderstehliche Charme und die ansteckende Spielfreude\\, mit der die drei Vollblutmusiker von Cobario das alles auf die Bühne bringen\\, machen jedes ihrer Konzerte zum Genuss.
  
 Herwig Schaffner begann mit acht Jahren Geige und Klavier zu lernen und wurde schon mit 16 Jahren am Salzburger Mozarteum aufgenommen. Er spielte u.a. im „European Youth Orchestra“ und unter Dirigenten wie Yehudi Menuhin und Sandor Vegh. Ausgedehnte Orchestertourneen führten ihn durch Europa und Asien.
  
 Georg Aichberger begann mit 14 Jahren Gitarre zu spielen. Seine Jugendjahre waren geprägt von autodidaktischem Lernen sowie einer Vielzahl an Bandprojekten. Er studierte anschließend Gitarre an der Musikuniversität Wien und am Sydney Conservatorium of Music. Seine musikalische Karriere brachte ihn in die verschiedensten Länder wie Spanien\\, Frankreich\\, England\\, Ungarn und Kroatien.
  
 Peter Weiss erlernte das Gitarrespielen im Alter von 13 Jahren. Es folgte ein Studium an der Universität für Musik und darstellende Kunst in Wien. Zu seinen Lehrern zählten Wolfgang Pointner\\, Martin Kelner und Gonzalo Manrique-Vallier\\, sowie der klassische Gitarrist und Komponist Nejc Kuhar. 2020 inskribierte er an der „ESML Lisboa“ in Portugal und studierte dort beim Jazz-Gitarristen Afonso Pais. Nach seiner Rückkehr spielte er in Wien mit mehreren lokalen Bands\\, Orchesterprojekten und Theaterproduktionen.
  
 Ort\\":\\" Speisesaal Schloss Schleißheim
 Einlass\\":\\" 10\\":\\"00 Uhr
 VVK Karten\\":\\" 25\\,-/20\\,-€. AK\\":\\" 28\\,-/23\\,-€ (zzgl. VVK-Gebühren). Reihenbestuhlung. VVK über www.münchenticket.de oder Schreibwaren am Schloss und Gemeindebücherei.
 Veranstalter\\":\\" Gemeinde Oberschleißheim\\, Kulturteam
  
 Organisator   Gemeinde Oberschleißheim\\, Kulturteam
 Kontakt   Organisation\\, Presse\\, Werbung
 Gaby Hohenberger\\, Tel.\\":\\" 089/ 3154175
 Tickets\\, Abendkasse\\, Homepage
 Kulturteam Oberschleißheim
 kultur@oberschleissheim.de
LOCATION;CHARSET=UTF-8:Speisesaal Schloss Schleißheim
UID:3d7734df4846e680b29a71b9fc656900@f5733fa7955e83f24714ef230d4390a0
END:VEVENT
END:VCALENDAR