BEGIN:VCALENDAR
VERSION:2.0
PRODID:< http://www.open2c.de/ >
METHOD:PUBLISH
X-PUBLISHED-TTL:PT12H
BEGIN:VEVENT
CREATED:20250512T054350Z
LAST-MODIFIED:20250604T073751Z
GEO:0.000000,0.000000
ORGANIZER;CN="Das Projekt wird wissenschaftlich von der Technischen Universität München (TUM) sowie der Hochschule Weihenstephan-Triesdorf (HSWT) begleitet und unterstützt. Dadurch fließen aktuelle Forschungsergebnisse und Fachwissen in die Umsetzung ein. Die finanzielle Förderung erfolgte durch die Deutsche Postcode Lotterie\\, die mit ihrem Engagement nachhaltige und gemeinnützige Projekte ermöglicht.":MAILTO:www.bund-naturschutz.de/aktionen/mein-baum
 
 IHRE ANSPRECHPARTNERIN 
 
 Martina Gehret
 Bauernfeindstraße 23
 90471 Nürnberg
 Tel. 01 60 / 5 64 05 29
 martina.gehret@bund-naturschutz.de
DTSTAMP:20260423T105652Z
DTSTART:20250511T220000Z
DTEND:20250511T220000Z
CATEGORIES:Verschiedenes
SUMMARY;CHARSET=UTF-8:Mein Baum\\":\\" Stadtbäume Meldung und schützen
DESCRIPTION;CHARSET=UTF-8:Bäume machen unsere Städte und Dörfer erst richtig lebenswert.
 Doch sie sind auch durch Trockenheit und Abholzung bedroht.
 Um den Bäumen zu helfen\\, wollen wir mehr über sie herausfinden.
  
 Dafür brauchen wir Sie\\":\\" Melden Sie uns die Bäume vor Ihrer Haustür!
  
 
 
 
 
 Bäume erfreuen Auge und Herz\\, sie spenden Schatten und gute Luft. Bäume tun uns gut und bieten vielen Vögeln\\, Insekten und Eichhörnchen eine Heimat.
 Doch Bäume in Ortschaften haben oft ein hartes Leben\\":\\" Zwischen Beton und Verkehr darben sie vor sich hin\\, Hitze und Durst machen ihnen zu schaffen. Oft werden sie rücksichtslos gefällt.
 
 
 
 
 
 
 
 
 Wir wollen den Bäumen gemeinsam eine Stimme geben. Zu diesem Zweck müssen wir mehr über die Bäume in unseren Städten und Dörfern erfahren. Denn je mehr wir über sie wissen\\, umso besser können wir sie schützen.
 Dafür brauchen wir Ihre Unterstützung. Bitte melden Sie uns\\, wo überall Bäume stehen\\, was für Bäume es sind und wie ihr Zustand ist – schnell und einfach hier auf dieser Webseite oder mit unserer App \\"Mein Baum\\". Jede*r kann mitmachen\\, Vorkenntnisse sind nicht nötig!
  
 Nutzen Sie die kostenlose App \\"Mein Baum\\"
 ›App für Android›
 App für iOS
 Mit dem Projekt “Mein Baum” wollen wir gemeinsam mit Ihnen Daten von Bäumen in Städten und Dörfern erfassen. Egal ob Sie im Stadtpark\\, am Straßenrand oder in Ihrem Garten Informationen über Bäume sammeln – jede Meldung zählt. 
 Ziel ist es\\, eine umfassende Datenbank von Bäumen in Städten und Gemeinden zu erstellen\\, um Informationen zu vorkommenden Baumarten und deren Standorte\\, sowie ihren Zustand und ökologische Funktion zu sammeln. Denn eine flächendeckende Datensammlung gibt es bisher nicht.
 Die gewonnenen Daten dienen dazu\\, das Grün in der Stadt besser zu schützen und zu fördern. 
 
 
 
 
 Organisator   Das Projekt wird wissenschaftlich von der Technischen Universität München (TUM) sowie der Hochschule Weihenstephan-Triesdorf (HSWT) begleitet und unterstützt. Dadurch fließen aktuelle Forschungsergebnisse und Fachwissen in die Umsetzung ein. Die finanzielle Förderung erfolgte durch die Deutsche Postcode Lotterie\\, die mit ihrem Engagement nachhaltige und gemeinnützige Projekte ermöglicht.
 Kontakt   www.bund-naturschutz.de/aktionen/mein-baum
 
 IHRE ANSPRECHPARTNERIN 
 
 Martina Gehret
 Bauernfeindstraße 23
 90471 Nürnberg
 Tel. 01 60 / 5 64 05 29
 martina.gehret@bund-naturschutz.de
LOCATION;CHARSET=UTF-8:Bäume melden
 Teilen Sie uns mit\\, wo Ihr Baum steht\\, um welche Baumart es sich handelt und wie es dem Baum geht. Sammeln Sie gerne auch Daten über weitere Bäume in Ihrem Wohnort und geben Sie sie hier oder in der App ein.
UID:72442bd39b08c3ed6b504631afff4d06@f5733fa7955e83f24714ef230d4390a0
END:VEVENT
BEGIN:VEVENT
CREATED:20250402T220000Z
LAST-MODIFIED:20250416T104558Z
GEO:48.000000,11.000000
ORGANIZER;CN="Tourismus Schleißheim e.V.":MAILTO:Tourismus Schleißheim e. V.
 Mittenheimer Straße 56
 85764 Oberschleißheim
 
 TELEFON\\":\\" + 49 89 375 589 58
 E-MAIL\\":\\" tourismus@t-schleissheim.de
 WEB\\":\\" www.tourismus-schleissheim.de
DTSTAMP:20260423T105652Z
DTSTART:20250518T090000Z
DTEND:20250518T160000Z
CATEGORIES:Verschiedenes
URL:https\\":\\"//www.tourismus-schleissheim.de
SUMMARY;CHARSET=UTF-8:Schleißheimer Frühling
DESCRIPTION;CHARSET=UTF-8:„Schleißheimer Frühling“ – Künstler- und Kreativmarkt am Schleißheimer Schloss
  
 Kunst\\, Handwerk und Genuss – unter diesem Motto steht auch in diesem Jahr der beliebte Schleißheimer Frühling\\, der am 18. Mai 2025 von 11 bis 18 Uhr seine Pforten öffnet. Zu entdecken gibt es unter anderem Malerei\\, Keramik- und Goldschmiedekunst\\, Säcklerarbeiten und Handweberei. Begleitet wird der Marktsonntag durch ein kreatives Kinderangebot\\, Musik von Klassik bis Swing am/im Alten Schloss (um 12.30 Uhr / 15 Uhr)\\,  eine geführte Radltour\\, Fairtrade-Köstlichkeiten und liebevoll handgemachte kulinarische Köstlichkeiten – denn alles\\, was angeboten wird\\, ist handgefertigt.
  
 Eintritt frei.
  
 Für den großen Hunger und Durst hat nebenan der Biergarten der Schlosswirtschaft durchgehend geöffnet.
  
 Organisator   Tourismus Schleißheim e.V.
 Kontakt   Tourismus Schleißheim e. V.
 Mittenheimer Straße 56
 85764 Oberschleißheim
 
 TELEFON\\":\\" + 49 89 375 589 58
 E-MAIL\\":\\" tourismus@t-schleissheim.de
 WEB\\":\\" www.tourismus-schleissheim.de
LOCATION;CHARSET=UTF-8:Schloss Schleißheim
UID:c1e90131118dab8401431659b629d7fc@f5733fa7955e83f24714ef230d4390a0
END:VEVENT
BEGIN:VEVENT
CREATED:20190401T101636Z
LAST-MODIFIED:20250409T085718Z
GEO:0.000000,0.000000
ORGANIZER;CN="Gemeinde Oberschleißheim\\, RSV Schleißheim\\, FC Phönix Schleißheim"DTSTAMP:20260423T105652Z
DTSTART:20250522T160000Z
DTEND:20250522T160000Z
CATEGORIES:Verschiedenes
SUMMARY;CHARSET=UTF-8:Oberschleißheimer Volksfest
DESCRIPTION;CHARSET=UTF-8:Auf geht’s zum Volksfest Oberschleißheim! O’zapft werd in Oberschleißheim! Von 22. bis 26. Mai 2025 lädt das traditionelle Volksfest wieder auf den Festplatz ein. Heuer gibt’s eine kleine Änderung\\":\\" Wegen Terminüberschneidungen mit dem Isargaufest in Feldmoching startet das Spektakel ausnahmsweise nicht an Christi Himmelfahrt\\, sondern eine Woche früher. G’standene Traditionen\\, beste bayerische Schmankerl und a zünftige Gaudi warten auf die Besucherinnen und Besucher. Ein besonderes Highlight ist der große Festumzug der örtlichen Vereine am Samstag\\, 24. Mai\\, ab 11\\":\\"30 Uhr\\, der in einem feierlichen Einzug ins Bierzelt gipfelt. Den offiziellen Startschuss gibt’s am Donnerstag\\, 22. Mai\\, um 18\\":\\"00 Uhr\\, wenn Bürgermeister Markus Böck höchstpersönlich mit dem traditionellen Anstich des ersten Fasses das Volksfest eröffnet. Für’s leibliche Wohl sorgt der erfahrene Festwirt der Festzeltbetriebe Schmidt\\, der mit knusprigen Hendl\\, reschen Brezn und deftigen Schmankerln aufwartet. Dazu gibt’s süffiges Bier von Remonte Bräu Schleißheim\\, das frisch gezapft in die Maß fließt. Des Fest wird von der Gemeinde Oberschleißheim gemeinsam mit dem RSV Schleißheim und dem FC Phönix Schleißheim organisiert. Mia g’frein uns auf alle Gäste aus Nah und Fern – packt’s eure Tracht aus und kemmts vorbei!
  
  
  
 Organisator   Gemeinde Oberschleißheim\\, RSV Schleißheim\\, FC Phönix Schleißheim
LOCATION;CHARSET=UTF-8:
UID:310bf28945bfa1f09f5ca3f5368f2f05@f5733fa7955e83f24714ef230d4390a0
END:VEVENT
END:VCALENDAR