BEGIN:VCALENDAR
VERSION:2.0
PRODID:< http://www.open2c.de/ >
METHOD:PUBLISH
X-PUBLISHED-TTL:PT12H
BEGIN:VEVENT
CREATED:20250221T230000Z
LAST-MODIFIED:20250221T230000Z
GEO:0.000000,0.000000
ORGANIZER;CN="Schleissheimer Tauschring":MAILTO:Ansprechpartner\\":\\" Peter Krell Tel.\\":\\" 089 - 317 31 67
DTSTAMP:20260424T124441Z
DTSTART:20250612T170000Z
DTEND:20250612T193000Z
CATEGORIES:
URL:http\\":\\"//www.schleissheimer-tauschring.de
SUMMARY;CHARSET=UTF-8:Treffen des Schleissheimer Tauschrings
DESCRIPTION;CHARSET=UTF-8:Schleissheimer Tauschring SHT 
 Tauschring in Ober- und Unterschleißheim Für die Schleißheimer gibt es einen lokalen Tauschring. Hier werden bargeldlos Dienstleistungen getauscht\\, wie es sonst unter Freunden üblich ist.
  
 Können Sie z.B.\\":\\"
 
 weißeln und renovieren\\,
 bügeln\\,
 Nachhilfe geben\\,
 gut kochen\\,
 PC-Hilfe leisten oder
 Elektrogeräte reparieren?
 
 Suchen Sie jemanden z.B.\\":\\"
 
 zum Autofahren oder -waschen\\,
 zur Gartenpflege\\,
 zum Vorlesen\\,
 zum Feste organisieren\\,
 zum Plätzchen backen oder
 als Baby- oder Tiersitter?
 
 Dann sind Sie im TAUSCHRING herzlich willkommen!
 Durch einen Tauschring werden Menschen ermutigt\\, ihre Fähigkeiten für andere einzusetzen. Tauschringe geben Selbstvertrauen und schaffen Freundschaften. Machen Sie etwas\\, das Ihnen Spaß macht. Entdecken Sie Ihre kreativen Fähigkeiten!
  
 Ein Tauschring lebt von der Anzahl und den Ideen seiner Mitglieder. Je mehr Mitglieder\\, desto vielfältiger sind die Angebote und Gesuche. Machen auch SIE mit! Ansprechpartner\\":\\" Peter Krell Tel.\\":\\" 089 - 317 31 67 www.schleissheimer-tauschring.de
  
 Organisator   Schleissheimer Tauschring
 Kontakt   Ansprechpartner\\":\\" Peter Krell Tel.\\":\\" 089 - 317 31 67
LOCATION;CHARSET=UTF-8:Quartiersladen \\"WIR\\" der Sozialen Stadt Parksiedlung\\, Am Stutenanger 6\\, 85764 Oberschleissheim
UID:65b3f38fc881e5e95676bf1fc1a17b55@f5733fa7955e83f24714ef230d4390a0
END:VEVENT
BEGIN:VEVENT
CREATED:20250528T083741Z
LAST-MODIFIED:20250618T083601Z
GEO:0.000000,0.000000
ORGANIZER;CN="Klima- und Umwelttreff im WIR (Lokale Agenda\\, Bund Naturschutz\\, Klimaneutral 2035 OSH/USH)"DTSTAMP:20260424T124441Z
DTSTART:20250627T150000Z
DTEND:20250627T150000Z
CATEGORIES:Verschiedenes
SUMMARY;CHARSET=UTF-8:Handysammelaktion im WIR-Laden & Ausstellung \\"Planet Ozean\\"
DESCRIPTION;CHARSET=UTF-8:Gebrauchte Handys sammeln und Gutes tun! 
 Ungenutzte Handys\\, die sich in der Schublade ansammeln\\, dem Kreislauf zurückgeben\\, das ist das Ziel dieser Sammelaktion. 15% der gesammelten Handys werden nach fachgerechter Löschung aller Daten refurbished weiterverkauft. Der Rest wird recycelt\\, um die wertvollen Metalle Gold\\, Silber\\, Kupfer und kleine Mengen von Platin und Palladium zur Herstellung neuer Geräte zu nutzen. Die Erlöse gehen an Artenschutzprojekte des Tierparks Hellabrunn.
 Bringen Sie uns ihre alten und unbeschädigten Handys (ohne Kabel/Ladegerät/lose Akkus) – wir schicken sie an das Handysammelcenter der Telecom\\, und gemeinsam sparen wir Ressourcen!
  
  
 Freitag 27.06.2025\\, ab 17.00h im WIR - OSH - Am Stutenanger 6
 TIPP\\":\\" 'PLANET OZEAN' - Ausstellung Oberhausen
  
 In Oberhausen - Gasometer gibt es eine sehr sehenswerte Ausstellung zu den Weltmeeren und deren Bewohnern.
 Wir haben im WIR dazu ein paar Erläuterungen mitgebracht und bieten auch Infomaterial an.
 Wer bis zum 30.11.2025 in der Gegend um Oberhausen verweilt\\,
 sollte sich für diesen Besuch der bisher bestbesuchten Ausstellung im Gasometer schon drei Stunden Zeit nehmen.
 Aber auch sonst gibt es bei Kuchen und Getränken bestimmt einen regen Austausch zu vielen Themen.
  
 Organisator   Klima- und Umwelttreff im WIR (Lokale Agenda\\, Bund Naturschutz\\, Klimaneutral 2035 OSH/USH)
LOCATION;CHARSET=UTF-8:WIR-Laden am Stutenanger 6
UID:234bcf7b3ebaf6bff0a8edf839ac4d52@f5733fa7955e83f24714ef230d4390a0
END:VEVENT
BEGIN:VEVENT
CREATED:20250621T220000Z
LAST-MODIFIED:20250621T220000Z
GEO:0.000000,0.000000
ORGANIZER;CN="Musikvereinigung Oberschleißheim e.V.":MAILTO:Das Kaffeekonzert findet nur bei schönem Wetter statt. Ob das Konzert stattfindet\\, erfahren Sie am Veranstaltungstag ab 10 Uhr unter der Infohotline 089/381 648 93
DTSTAMP:20260424T124441Z
DTSTART:20250629T120000Z
DTEND:20250629T120000Z
CATEGORIES:
SUMMARY;CHARSET=UTF-8:Kaffeekonzert
DESCRIPTION;CHARSET=UTF-8:Am 25. Juni präsentieren sich erneut die verschiedenen Abteilungen der Musikvereinigung bei einem Konzert mit Kaffee und Kuchen im Maximilianshof der Schloßanlage Schleißheim. Beginn ist um 14 Uhr\\, der Eintritt ist frei.
  
 Die Abteilungen präsentieren Ihnen ein buntes Repertoire aus Volks‑\\, Blas- und Marschmusik kombiniert mit manch modernem Stück.
 Gerne dürfen auch Decken mitgebracht werden\\, um es sich auf den Wiesen des Maximilianshofs gemütlich zu machen und den musikalischen Darbietungen zu lauschen.
 Organisator   Musikvereinigung Oberschleißheim e.V.
 Kontakt   Das Kaffeekonzert findet nur bei schönem Wetter statt. Ob das Konzert stattfindet\\, erfahren Sie am Veranstaltungstag ab 10 Uhr unter der Infohotline 089/381 648 93
LOCATION;CHARSET=UTF-8:Maximilianshof
UID:fb4dd7d2db959ccd1fa6655ddc9e7c12@f5733fa7955e83f24714ef230d4390a0
END:VEVENT
END:VCALENDAR