BEGIN:VCALENDAR
VERSION:2.0
PRODID:< http://www.open2c.de/ >
METHOD:PUBLISH
X-PUBLISHED-TTL:PT12H
BEGIN:VEVENT
CREATED:20241011T091155Z
LAST-MODIFIED:20241011T091419Z
GEO:0.000000,0.000000
ORGANIZER;CN="Flugwerft Schleißheim"DTSTAMP:20260425T011910Z
DTSTART:20241102T120000Z
DTEND:20241102T120000Z
CATEGORIES:Lesung
SUMMARY;CHARSET=UTF-8:Lesung in der Flugwerft mit Eurofighter-Pilot Gerald \\"TITAN\\"
DESCRIPTION;CHARSET=UTF-8:Am 02. November 2024 um 13\\":\\"00 Uhr lädt die Flugwerft Schleißheim\\, Teil des Deutschen Museums\\, in den Montgolfier-Raum zu einer besonderen Lesung ein\\":\\" Der Eurofighter-Pilot und Autor Gerald \\"TITAN\\" Groß präsentiert sein am 30. April 2024 beim Motorbuch Verlag erschienenes Buch \\"TITAN – (D)ein Weg ins Cockpit\\". Diese Veranstaltung gibt spannende Einblicke in das Leben und die Erlebnisse eines modernen Kampfpiloten und richtet sich an Luftfahrtbegeisterte sowie alle\\, die mehr über die faszinierende Welt des Fliegens erfahren möchten.
 Gerald \\"TITAN\\" Groß ist für seine packenden Erzählungen und authentischen Einblicke bekannt und wird das Publikum in der einzigartigen Kulisse der historischen Flugwerft Schleißheim begeistern. Umgeben von beeindruckenden Exponaten\\, darunter der erste Prototyp des Eurofighters\\, die DA1\\, wird die Lesung zu einem unvergesslichen Erlebnis.
  
 Reservierung und Eintritt\\":\\" Die Reservierung der Tickets ist kostenlos\\, und kann unter folgendem Link vorgenommen werden\\":\\" https\\":\\"//easy-tickets.app/event/twin-g-thrust/JA14-665S-AMR1-titan-d-ein-weg-ins-cockpit/ Der Eintritt zur Veranstaltung erfolgt mit einem ermäßigten Museumseintritt von 7 Euro\\, der an der Museumskasse zu entrichten ist. Besucher haben zudem die Möglichkeit\\, das Museum am Veranstaltungstag während der regulären Öffnungszeiten von 9\\":\\"00 bis 17\\":\\"00 Uhr zu erkunden.
 Im Anschluss an die Lesung besteht die Gelegenheit\\, ein signiertes Exemplar von \\"TITAN – (D)ein Weg ins Cockpit\\" zu erwerben und sich persönlich mit dem Autor auszutauschen.
  
 Organisator   Flugwerft Schleißheim
LOCATION;CHARSET=UTF-8:Deutsches Museum Flugwerft Schleißheim
 Effnerstraße 18
 85764 Oberschleißheim
UID:802afb3bd249816404ec7df185dea9fe@f5733fa7955e83f24714ef230d4390a0
END:VEVENT
BEGIN:VEVENT
CREATED:20240627T220000Z
LAST-MODIFIED:20240701T072920Z
GEO:0.000000,0.000000
ORGANIZER;CN="u.a. Gesangverein Germania Oberschleißheim":MAILTO:Vorstand\\":\\" Hans-Ulrich Dassler
DTSTAMP:20260425T011910Z
DTSTART:20241103T160000Z
DTEND:20241103T180000Z
CATEGORIES:Musik-Konzert
SUMMARY;CHARSET=UTF-8:Schleißheimer singen und musizieren für Schleißheim
DESCRIPTION;CHARSET=UTF-8:‚Singen macht Spaß!‘
 Eine kleine Reise durch die Welt des Gesangs.
 In Oberschleißheim gibt es viele engagierte Menschen. Einen kleinen Einblick in das Tun der hier genannten wird präsentiert.
 Es erwartet Sie ein bunt geschnürtes Paket. Lassen Sie sich überraschen!
 Mitwirkende\\":\\"
 
 Stefanie Haselbeck\\, Sopranistin\\,
 Michael Dietmayr\\, Deutscher Liedermacher\\, Musikkabarettist und Schauspieler\\,
 Felix Thalhammer\\, Klavier\\,
 Chor der Trinitatiskirche Oberschleißheim unter Leitung von Ursula Kaupert\\,
 Pfarrverbandschor Oberschleißheim unter Leitung von Iris Vogel\\,
 Gesangverein Germania Schleißheim unter Leitung von Joachim Nikolai.
 
  
 Frau Haselbeck ist im Ort an vielem aktiv beteiligt und international als Solistin und in Chören unterwegs.
  
 Herr Dietmayr steht seit über 25 Jahren auf der Bühne und ist auch als Schauspieler bekannt.
  
 Herr Thalhammer\\, Klavier
  
 Der Trinitatis-Chor tritt meist bei kirchlichen Anlässen und Konzerten auf und probt außerhalb der Ferien montags 19\\":\\"30 bis 21 Uhr im Gemeindesaal der Trinitatiskirche Oberschleißheim.
  
 Der Pfarrverbandschor Oberschleißheim ist bei der musikalischen Gestaltung vieler kirchlicher Feste und Messen in St. Wilhelm und Maria Patrona Bavariae zu hören. Geprobt wird immer donnerstags ab 20 Uhr im Gemeindesaal MPB.
  
 Der Gesangverein Germania Schleißheim ist der älteste Gesangverein am Ort. Auftritte sind bei offiziellen\\, weltlichen und kirchlichen\\, sowie konfessionsunabhängigen Veranstaltungen. Geprobt wird mittwochs ab 18\\":\\"45 Uhr im Konferenzraum des Bürgerhauses.
 Der Eintritt ist frei. Spenden für unsere Unkosten sind willkommen.
 Es gilt die freie Platzwahl.
 Organisator   u.a. Gesangverein Germania Oberschleißheim
 Kontakt   Vorstand\\":\\" Hans-Ulrich Dassler
LOCATION;CHARSET=UTF-8:Bürgerhaus Oberschleißheim
UID:22fcc3924420aa9d39cd07a26ae0632c@f5733fa7955e83f24714ef230d4390a0
END:VEVENT
BEGIN:VEVENT
CREATED:20240916T220000Z
LAST-MODIFIED:20240916T220000Z
GEO:0.000000,0.000000
ORGANIZER;CN="vhs Oberschleißheim":MAILTO:www.vhsosh.de
DTSTAMP:20260425T011910Z
DTSTART:20241107T180000Z
DTEND:20241107T200000Z
CATEGORIES:
URL:https\\":\\"//www.vhsosh.de/programm/kultur/kurs/Lesung-Die-beste-Zeit-fuer-Guten-Stil-Fashion-for-Women-Not-Girls/242A650?Fsize=334#inhalt
SUMMARY;CHARSET=UTF-8:Lesung\\":\\" Die beste Zeit für Guten Stil. Fashion for Women. Not Girls. - Auf das Leben!
DESCRIPTION;CHARSET=UTF-8:Freuen Sie sich auf vergnügliche Stunden - mit Mode\\, Musik und einer Brise Fernweh! Susanne Ackstaller entführt das Publikum mit launigen Texten und musikalischer Untermalung in ihren Kleiderschrank und verrät\\, was guten Stil in jedem Alter ausmacht (und was Mut damit zu tun hat). Und weil modischer Chic bekannterweise aus Italien kommt\\, geht es mit viel \\"Azzuro\\" noch auf eine Zugreise nach Venedig! Besonderes Highlight der Veranstaltung\\":\\" eine Tauschparty während der Pause mit gepflegten Accessoires! Wer Lust hat\\, bringt modisches Zubehör wie Modeschmuck\\, Taschen\\, Tücher\\, Gürtel\\, Sonnenbrillen etc. zur Veranstaltung mit - mittauschen dürfen aber alle Gäste. Nicht Getauschtes darf wieder mitgenommen werden\\, wird gespendet oder geht mit Susanne Ackstaller auf die Reise zu einer weiteren Lesung mit Tauschparty. Zum Buch\\":\\"Dieser Style-Guide zeigt Frauen ab 50 Jahren (Jüngere sind natürlich auch eingeladen!)\\, wie sie ihre Lust auf Mode wecken können\\, zu ihrem eigenen Stil finden und diesen auch mutig und selbstbewusst ausleben können. Mit einem Augenzwinkern teilt die Modebloggerin (www.texterella.de) und Kolumnistin Susanne Ackstaller ihr Wissen rund um guten Stil und beweist\\, dass man in jedem Alter Spaß an Mode haben kann. Sie stellt 20 Keypieces für jeden Kleiderschrank vor\\, dazu kommen Interviews mit stilbewussten Frauen\\, die davon berichten\\, wie sie zu ihrem persönlichen Kleidungsstil gefunden haben. Abgerundet wird der Mode-Ratgeber durch stylische Mode-Illustrationen und frische Porträtfotografien.Erschienen am 24. Februar 2021 bei Knesebeck
 Nach der Pause verrät Susanne Ackstaller in ihrem neuen Buch \\"Auf das Leben!\\"\\, wie gutes und glückliches Älterwerden gelingen kann. Mit Porträts spannender Frauen\\, unterhaltsamen Kolumnen und launiger Musikbegleitung macht die Autorin bei ihrer Lesung Lust auf die zweite Lebenshälfte - frei nach ihrem Motto \\"Je älter ich werde\\, desto bunter\\, spannender und toller finde ich mein Leben\\". Susanne Ackstaller versteht es\\, die Zuhörerinnen zu begeistern und sie macht Mut\\, die eigene Komfortzone zu verlassen\\":\\" Wie sortiert man sich neu\\, nachdem die Kinder ausgeflogen sind\\, wie werden langgehegte Träume endlich wahr\\, wie lebt es sich zum Beispiel im Wohnmobil\\, wieviel Unvernunft ist erlaubt (Spoiler\\":\\" eine ganze Menge!)\\, und und und... Ein unterhaltsamer Abend\\, der auf beschwingte Weise Impulse gibt und zur Selbstreflektion anregt! Und zum guten Schluss erhält jeder Gast eine persönliche Glücksbotschaft.
  
 Zum Buch\\":\\"\\"Auf das Leben! Das Glücksbuch für die besten Jahre\\"Glück\\, Zufriedenheit\\, Lebensfreude - wie kann man als Frau ab fünfzig das Leben so gestalten\\, dass es möglichst viel davon bereithält? Für diesen Ratgeber hat sich Susanne Ackstaller zusammen mit spannenden Gesprächspartnerinnen und einer ordentlichen Prise Humor auf die Suche nach Antworten gemacht. 17 inspirierende Frauen\\, die es - teilweise trotz Hindernissen\\, Schicksalsschlägen oder Krankheit - geschafft haben\\, ein glückliches und rundum zufriedenes Leben zu führen\\, kommen im Buch zu Wort. Abgerundet wird der Ratgeber mit unterhaltsamen Kolumnen\\, Leseempfehlungen und Lifestyletipps. Die Porträts werden begleitet von ausdrucksstarken Fotografien und Illustrationen. \\"Auf das Leben!\\" ist ein Buch\\, das alles mitbringt\\, was frau in ihren besten Jahren zeigt\\":\\" Glücklichsein kennt kein Alter.Erschienen am 21. September bei Knesebeck
  
 Zur Autorin\\":\\"Erst wollte Susanne Ackstaller (56) Journalistin werden\\, dann Modedesignerin - schließlich hat sie doch etwas \\"Vernünftiges\\" studiert\\":\\" Wirtschaftswissenschaften. Geschrieben hat sie aber trotzdem\\":\\" als Wirtschafts- und Werbetexterin und ab 2002 auch als Bloggerin. 2009 ging dann ihr Lifestyle-Blog Texterella an den Start\\, und Susanne ist immer noch und immer wieder überrascht\\, was daraus alles entstanden ist. Unter anderem ihr Buch über Mode\\, Mut und Lebensfreude \\"Die beste Zeit für guten Stil\\"\\, das 2021 erschienen ist. Motto\\":\\" \\"Ich muss niemandem etwas beweisen und nur mir selbst gefallen.\\"
  
 In Kooperation mit der Gemeindebücherei und dem Kulturprogramm der Gemeinde Oberschleißheim
 Organisator   vhs Oberschleißheim
 Kontakt   www.vhsosh.de
LOCATION;CHARSET=UTF-8:Bürgerhaus Oberschleißheim Konferenzraum\\, Theodor-Heuss-Str. 29
UID:c90d8283d5fbc57d15c4dcd0cdb92122@f5733fa7955e83f24714ef230d4390a0
END:VEVENT
BEGIN:VEVENT
CREATED:20240313T132505Z
LAST-MODIFIED:20240313T133525Z
GEO:0.000000,0.000000
ORGANIZER;CN="Lokale Agenda 21 - PG Energie und Klima\\, VHS Oberschleißheim":MAILTO:Anmeldung unter\\":\\" 089/3153806 bzw. anmeldung@vhsosh.de
DTSTAMP:20260425T011910Z
DTSTART:20241121T183000Z
DTEND:20241121T200000Z
CATEGORIES:Veranstaltung der VHS
SUMMARY;CHARSET=UTF-8:Vortrag\\":\\" Entscheidungshilfe\\":\\" Photovoltaik oder Solarthermie
DESCRIPTION;CHARSET=UTF-8:Solarhybridsysteme (PV-Therm)\\, die auf derselben Dachfläche sowohl Strom als auch Wärme erzeugen\\, ggf. auch mit einer Wärmepumpe kombiniert\\, haben im Vergleich zu reinen Photovoltaik- oder solarthermischen Anlagen bisher ein Nischendasein geführt.
 Grund hierfür sind der geringere Bekanntheitsgrad ihres Funktionsprinzips\\, mehr Planungsaufwand und eine eingeschränkte Auswahl an geeigneten Kollektoren.
 Andererseits können diese Systeme eine einheitliche Dachoberfläche ermöglichen und durch den doppelten Nutzen mit Strom und Wärme den Ertrag von den meist knappen Dachflächen steigern.
 Der Vortrag stellt die Vor- und Nachteile der Systemkonzepte vor und möchte bei der Grundsatzentscheidung unterstützen\\, unter welchen Voraussetzungen ein Hybridsystem sinnvoll sein kann\\, oder lediglich Solarthermie bzw. Photovoltaik.
  
 Referent\\":\\" Alfred Bäder\\, Energieberater (HWK)\\, Dipl.-Ing. Elektrotechnik (TU)
  
 Vortrag kostenfrei\\, Anmeldung erforderlich\\":\\" anmeldung@vhsosh.de\\, bzw. Tel. 089/3153806
  
  
  
 Organisator   Lokale Agenda 21 - PG Energie und Klima\\, VHS Oberschleißheim
 Kontakt   Anmeldung unter\\":\\" 089/3153806 bzw. anmeldung@vhsosh.de
LOCATION;CHARSET=UTF-8:VHS Oberschleißheim\\, Prof.-Otto-Hupp-Str. 26c\\, Raum 3
UID:52453c50a482d575f917a2745b854534@f5733fa7955e83f24714ef230d4390a0
END:VEVENT
BEGIN:VEVENT
CREATED:20221118T114444Z
LAST-MODIFIED:20241124T140414Z
GEO:0.000000,0.000000
DTSTAMP:20260425T011910Z
DTSTART:20241124T100000Z
DTEND:20241124T160000Z
CATEGORIES:Weihnachten
SUMMARY;CHARSET=UTF-8:Christkindlmarkt der Sozialen Vereine
DESCRIPTION;CHARSET=UTF-8:Traditioneller Christkindlmarkt der sozialen Vereine in Oberschleißheim - mit großem Bücherbasar der Gemeindebücherei.
  
 Zum traditionellen Christkindlmarkt der sozialen Vereine in Oberschleißheim am Sonntag\\, 24. November 2024 von 11– 17 Uhr 
 im Saal des Bürgerhauses laden sehr herzlich ein\\":\\"
  
 Bastelkreis St. Wilhelm\\, Förderverein St. Wilhelm\\, Nachbarschaftshilfe Oberschleißheim e.V.\\, AWO Kindergarten Biene Maja\\, Haus St. Benno / Hans-Scherer-Haus\\, GEPA\\, Volksbund Dt. Kriegsgräber\\, Lions Club Schleißheim e.V.\\, sowie evang. Kirchengemeinde vertreten durch Kindergarten Regenbogenhaus und ev. Jugend. 
 Die Veranstaltung wird von der Gruppe Fleckerlteppich musikalisch umrahmt.
  
 Aus dem reichhaltigen Angebot an selbst hergestellten Marmeladen\\, Gebäck\\, adventlichen  Dekorationen\\, Kränzen und liebevoll gestalteten Geschenken ist sicher für jeden etwas dabei.
 Bei staader Musik\\, Kaffee und Kuchen können Sie die gemütliche Atmosphäre genießen.
 Der Verkaufserlös der jeweiligen Einrichtungen ist für wohltätige Zwecke bestimmt.
 Mit Ihrem Einkauf wird es wieder möglich sein\\, Menschen in unserer Gemeinde\\, die Hilfe benötigen\\, zu unterstützen.
  
 Wir freuen uns auf Ihr Kommen!
LOCATION;CHARSET=UTF-8:Bürgerhaus Oberschleißheim
UID:0182ec12568abe733496c83883409b83@f5733fa7955e83f24714ef230d4390a0
END:VEVENT
END:VCALENDAR