BEGIN:VCALENDAR
VERSION:2.0
PRODID:< http://www.open2c.de/ >
METHOD:PUBLISH
X-PUBLISHED-TTL:PT12H
BEGIN:VEVENT
CREATED:20240916T220000Z
LAST-MODIFIED:20240916T220000Z
GEO:0.000000,0.000000
ORGANIZER;CN="vhs Oberschleißheim":MAILTO:www.vhsosh.de
DTSTAMP:20260425T025404Z
DTSTART:20240923T081500Z
DTEND:20240923T091500Z
CATEGORIES:
URL:https\\":\\"//www.vhsosh.de/programm/gesundheit/kurs/Rehabilitationsgymnastik-ohne-Verordnung/242T019#inhalt
SUMMARY;CHARSET=UTF-8:Rehabilitationsgymnastik (ohne Verordnung)
DESCRIPTION;CHARSET=UTF-8:Dieser Kurs\\, der an 16 Vormittagen immer montags stattfindet\\, eignet sich besonders für Teilnehmende\\, die ihre körperlichen Probleme und Defizite gerne wieder dauerhaft \\"in den Griff\\" bekommen möchten.In der Stunde werden gezielt Schwerpunkte gesetzt\\, wie z. B. die Stärkung der Muskulatur\\, die Beseitigung erworbener Schonhaltung\\, Beweglichkeitstraining\\, Massagetechniken. Übungen zur Verbesserung der Tiefenwahrnehmung runden das Programm ab.
 Dieser Kurs benötigt kein Rezept und kann als ganz normaler Kurs gebucht werden. Er bietet die Möglichkeit\\, sich nach einer Reha-Behandlung oder einem abgeschlossenen vom Arzt verordneten Programm mit dem Thema weiter zu beschäftigen\\, um weiterhin seine persönliche Situation zu verbessern.
 Organisator   vhs Oberschleißheim
 Kontakt   www.vhsosh.de
LOCATION;CHARSET=UTF-8:Gymnastikhalle Sporthalle am Hallenbad Prof.-Otto-Hupp-Straße 26b
UID:04124dd27d5a191b3fe35573c0d21aa9@f5733fa7955e83f24714ef230d4390a0
END:VEVENT
END:VCALENDAR