BEGIN:VCALENDAR
VERSION:2.0
PRODID:< http://www.open2c.de/ >
METHOD:PUBLISH
X-PUBLISHED-TTL:PT12H
BEGIN:VEVENT
CREATED:20240809T090903Z
LAST-MODIFIED:20240906T080103Z
GEO:0.000000,0.000000
ORGANIZER;CN="Lenkungskreis Klimaschutz bei der Gemeinde Oberschleißheim"DTSTAMP:20260425T025501Z
DTSTART:20240906T080000Z
DTEND:20240906T100000Z
CATEGORIES:Verschiedenes
SUMMARY;CHARSET=UTF-8:Photovoltaik auf Gewerbedächern - Informationsveranstaltung (hybrid)
DESCRIPTION;CHARSET=UTF-8:Kostenfreie Informationsveranstaltung für Oberschleißheimer Unternehmer\\":\\"
 Am Freitag\\, 6. September findet von 10-12 Uhr eine Informationsveranstaltung (live &amp\\; online) mit dem erfahrenen Referenten Alexandru Steininger von der unabhängigen Beratungsfirma power2nature statt. Er begleitet seit 13 Jahren den Bau und Betrieb von PV-Großprojekten und wird detailliert zu folgenden Themen informieren und steht für Fragen zur Verfügung\\":\\"
  
 1. Warum Photovoltaik?
 2. Technik von PV-Anlagen
 3. Wirtschaftlichkeit
 4. Umsetzung 
 5. Diskussion 
  
 Anmeldungen bitte per Mail an gemeinde(at)oberschleissheim.de (bis zum 4. September).
 Zur Veranstaltung wird es auch einen Videokonferenz-Link geben\\; diesen erhalten Sie gerne per Mail. 
  
 Beitreten Zoom Meeting https\\":\\"//us02web.zoom.us/j/88479552845?pwd=ntbF9VTzJKwNvQ60Uh5hWj0r2wPQNI.1
 Meeting-ID\\":\\" 884 7955 2845 Kenncode\\":\\" 786564
  
 Organisator   Lenkungskreis Klimaschutz bei der Gemeinde Oberschleißheim
LOCATION;CHARSET=UTF-8:Bürgerzentrum Oberschleißheim
UID:8efd583736cba994f2c42277cb8cf7b2@f5733fa7955e83f24714ef230d4390a0
END:VEVENT
END:VCALENDAR