BEGIN:VCALENDAR
VERSION:2.0
PRODID:< http://www.open2c.de/ >
METHOD:PUBLISH
X-PUBLISHED-TTL:PT12H
BEGIN:VEVENT
CREATED:20240625T093138Z
LAST-MODIFIED:20240625T093333Z
GEO:0.000000,0.000000
ORGANIZER;CN="VHS Oberschleißheim - Instrumentalbereich"DTSTAMP:20260423T144228Z
DTSTART:20240703T170000Z
DTEND:20240703T170000Z
CATEGORIES:Konzerte allgemein
SUMMARY;CHARSET=UTF-8:Vorspielabend der Instrumentalschüler der VHS
DESCRIPTION;CHARSET=UTF-8:Die Instrumentalabteilung der VHS Oberschleißheim lädt alle Musikliebhaber zu den inzwischen traditionell gewordenen Sommervorspielabenden am 26.06.24 ab 17\\":\\"00 Uhr und am 03.07.24 ab 19\\":\\"00 Uhr im Bürgerzentrum ein. Alle talentierten Schülerinnen und Schüler\\, die regelmäßig Instrumental- oder Gesangsunterricht nehmen und sich einen Bühnenauftritt zutrauen\\, präsentieren dem Publikum unterschiedliche Stücke je nach Können und Niveau. Gemeinsam mit den engagierten Musiklehrern haben sie ein buntes Programm aus dem Gelernten zusammengestellt und würden sich über zahlreiches Erscheinen sehr freuen.
 Der Eintritt ist frei\\, Spenden sind willkommen.
 Organisator   VHS Oberschleißheim - Instrumentalbereich
LOCATION;CHARSET=UTF-8:Bürgersaal
UID:1ca19e88bb5aed1bd4e32aebb042470a@f5733fa7955e83f24714ef230d4390a0
END:VEVENT
END:VCALENDAR