BEGIN:VCALENDAR
VERSION:2.0
PRODID:< http://www.open2c.de/ >
METHOD:PUBLISH
X-PUBLISHED-TTL:PT12H
BEGIN:VEVENT
CREATED:20240621T094523Z
LAST-MODIFIED:20240621T094634Z
GEO:0.000000,0.000000
ORGANIZER;CN="Skiclub Schleißheim"DTSTAMP:20260423T163709Z
DTSTART:20240622T150000Z
DTEND:20240622T150000Z
CATEGORIES:Verschiedenes
SUMMARY;CHARSET=UTF-8:Sonnwendfeier
DESCRIPTION;CHARSET=UTF-8:Sonnwendfeier des Skiclub Schleißheim am Phönix-Gelände. 
 Organisator   Skiclub Schleißheim
LOCATION;CHARSET=UTF-8:Phönix Gelände
UID:385ebbc7aa54e58e17f5301170831b03@f5733fa7955e83f24714ef230d4390a0
END:VEVENT
END:VCALENDAR