BEGIN:VCALENDAR
VERSION:2.0
PRODID:< http://www.open2c.de/ >
METHOD:PUBLISH
X-PUBLISHED-TTL:PT12H
BEGIN:VEVENT
CREATED:20240621T074517Z
LAST-MODIFIED:20240621T074740Z
GEO:0.000000,0.000000
DTSTAMP:20260423T163728Z
DTSTART:20240622T220000Z
DTEND:20240622T220000Z
CATEGORIES:Sport
SUMMARY;CHARSET=UTF-8:Süddeutsche Meisterschaft im Kanupolo am 22. und 23.06.2024
DESCRIPTION;CHARSET=UTF-8:Süddeutsche Meisterschaft im Kanupolo startet am Samstag in Oberschleißheim! Am 22.06.2024 beginnt die Süddeutsche Meisterschaft im Kanupolo auf der OlympiaRegattastrecke in Oberschleißheim (Landkreis München). 25 Jahre nach dem letzten großen Turnier ringen am Samstag und Sonntag elf Mannschaften um den Titel Süddeutscher und Münchner Meister im Kanupolo. Außerdem setzen fünf Jugendteams das Wasser mit ihren Kajaks in Bewegung. Kanupolo ist eine Kombination aus Handball\\, Wasserball und Rugby\\, die in kleinen wendigen Kajaks gespielt wird. Auf einem Feld mit zwei Toren in jeweils zwei Meter Höhe versuchen zwei Teams von jeweils fünf Spielern mit Händen und Paddeln mehr Tore als das gegnerische Team zu werfen. Dabei darf gerammt und sogar geschubst werden. Wie der Polowart des Schleißheimer Paddelclubs e.V.\\, Paul Wagner\\, am Montag im Interview mit München TV sagte\\":\\" „Es sind zweimal 10 Minuten pure Action. Das Wasser ist nie still.“ 
  
 Am 22. und 23. Juni kommen Teams unterschiedlicher Leistungsklassen aus Bayern\\, BadenWürttemberg\\, Hessen und Österreich auf der Olympia-Regattastrecke in Oberschleißheim zusammen\\, um in dieser spektakulären Wassersportart ihre Kräfte zu messen. Natürlich istauch der Schleißheimer Paddelclub selbst auf dem Wasser. Am Samstag von 9 bis 18 Uhr und am Sonntag von 9 bis 14 Uhr können Zuschauer das Spektakel verfolgen. Die Wettkämpfe finden am nördlichen Ende der Olympia-Regattaanlage statt (Dachauer Str. 35\\, 85764Oberschleißheim).
 Dank der großzügigen Unterstützung der Gemeinde Oberschleißheim ist es der Münchner Kanupoloabteilung des Schleißheimer Paddelclubs e.V. damit gelungen\\, diese spektakuläre Sportart zurück nach München zu holen. Erstmals seit der Deutschen Meisterschaft von 1998findet wieder ein offizielles Kanupoloturnier des Bayerischen Kanuverbands (BKV) und Deutschen Kanuverbands (DKV) im Raum München statt.
LOCATION;CHARSET=UTF-8:Ruderregatta-Anlage Oberschleißheim
UID:25ac055d9a36d68e31e5592d3e4905bb@f5733fa7955e83f24714ef230d4390a0
END:VEVENT
END:VCALENDAR