BEGIN:VCALENDAR
VERSION:2.0
PRODID:< http://www.open2c.de/ >
METHOD:PUBLISH
X-PUBLISHED-TTL:PT12H
BEGIN:VEVENT
CREATED:20240610T220000Z
LAST-MODIFIED:20240610T220000Z
GEO:0.000000,0.000000
ORGANIZER;CN="Musikvereinigung Oberschleißheim e.V.":MAILTO:Florian Riermeier
 1. Vorstand
DTSTAMP:20260421T104442Z
DTSTART:20240616T120000Z
DTEND:20240616T120000Z
CATEGORIES:
URL:http\\":\\"//mvo-ev.de
SUMMARY;CHARSET=UTF-8:Kaffeekonzert der Musikvereinigung
DESCRIPTION;CHARSET=UTF-8:Am 16. Juni präsentieren sich erneut die verschiedenen Abteilungen der Musikvereinigung bei einem Konzert mit Kaffee und Kuchen im Maximilianshof der Schloßanlage Schleißheim. Der Eintritt ist frei\\, Beginn ist um 14 Uhr.Die Abteilungen präsentieren Ihnen ein buntes Repertoire aus Volks-\\, Blas- und Marschmusik kombiniert mit manch modernem Stück.Gerne dürfen auch Decken mitgebracht werden\\, um es sich auf den Wiesen des Maximilianshofs gemütlich zu machen und den musikalischen Darbietungen zu lauschen.Bei schlechter Witterung muss das Konzert leider ersatzlos entfallen. Aus diesem Grund hat der Verein eine Infohotline eingerichtet. Unter 089/381 648 93 ist am Tag des Konzertes ab 10 Uhr zu erfahren\\, ob das Konzert stattfindet.
 Organisator   Musikvereinigung Oberschleißheim e.V.
 Kontakt   Florian Riermeier
 1. Vorstand
LOCATION;CHARSET=UTF-8:Maximilianshof
UID:d1b50547414c2788aee4e44a2b1a7cbc@f5733fa7955e83f24714ef230d4390a0
END:VEVENT
END:VCALENDAR