BEGIN:VCALENDAR
VERSION:2.0
PRODID:< http://www.open2c.de/ >
METHOD:PUBLISH
X-PUBLISHED-TTL:PT12H
BEGIN:VEVENT
CREATED:20240415T083754Z
LAST-MODIFIED:20250409T080041Z
GEO:0.000000,0.000000
DTSTAMP:20260424T123741Z
DTSTART:20250419T080000Z
DTEND:20250419T080000Z
CATEGORIES:Verschiedenes
SUMMARY;CHARSET=UTF-8:GartenLust von 19. - 21.04.2025
DESCRIPTION;CHARSET=UTF-8:GartenLust in Schloss Schleißheim -  Früjahrsverkaufsausstellung mit ca. 190 tollen Verkaufsausstellern - Große Auswahl besonderer Pflanzen- Schönes für Garten\\, Raum &amp\\; Seele - Handwerk - Design - Kunst - Kulinarik
  
 19. - 21. April 2025 - jeweils 10 - 18 Uhr
  
 Tageskarte 12 Euro
 Dauerkarte 18 Euro 
 bis 16 Jahre Eintritt frei 
  
 Inkl. freier Eintritt in die Schlösser 
  
 www.gartenlust.eu
  
  
  
LOCATION;CHARSET=UTF-8:Schlossanlage Schleißheim
UID:5b021a82f2aea7b017eb7bfdc48aac00@f5733fa7955e83f24714ef230d4390a0
END:VEVENT
END:VCALENDAR