BEGIN:VCALENDAR
VERSION:2.0
PRODID:< http://www.open2c.de/ >
METHOD:PUBLISH
X-PUBLISHED-TTL:PT12H
BEGIN:VEVENT
CREATED:20240313T130924Z
LAST-MODIFIED:20240313T133331Z
GEO:0.000000,0.000000
ORGANIZER;CN="Lokale Agenda 21 - PG Energie und Klima\\, VHS Oberschleißheim":MAILTO:Anmeldung unter\\":\\" 089/3153806 bzw. anmeldung@vhsosh.de
DTSTAMP:20260423T163728Z
DTSTART:20240606T173000Z
DTEND:20240606T190000Z
CATEGORIES:Veranstaltung der VHS
URL:https\\":\\"//www.vhsosh.de/kurssuche/kurs/Vortrag-Zuverlaessige-und-preiswerte-Stromversorgung-durch-Photovoltaik/241A361#inhalt
SUMMARY;CHARSET=UTF-8:Vortrag\\":\\" Zuverlässige und preiswerte Stromversorgung durch Photovoltaik und Speicher
DESCRIPTION;CHARSET=UTF-8:Selbst erzeugte regenerative Energie in der Kombination von Photovoltaik mit einem Speicher ermöglicht im Eigenheim einen hohen Autarkiegrad (Eigenver-brauchsanteil) und kann Strompreissteigerungen abmildern. Manche Systeme sind sogar in der Lage\\, bei Störungen im Stromnetz den Betrieb sicher fortzuführen\\, was auch mit Balkonsolaranlagen umsetzbar ist.
 Infolge der gestiegenen Strompreise profitieren Großverbraucher wie Elektrofahrzeuge und Wärmepumpen mehr denn je von der selbst erzeugten elektrischen Energie. Der Vortrag erläutert zudem Förderprogramme und stellt Faustregeln zur Dimensionierung vor\\; etwa für hohe Wirtschaftlichkeit oder größtmögliche Autarkie.
  
 Referent\\":\\" Alfred Bäder\\, Energieberater (HWK)\\, Dipl.-Ing. Elektrotechnik (TU)
  
 Vortrag kostenfrei\\, Anmeldung erforderlich\\":\\" anmeldung@vhsosh.de\\, bzw. Tel. 089/3153806
  
  
  
 Organisator   Lokale Agenda 21 - PG Energie und Klima\\, VHS Oberschleißheim
 Kontakt   Anmeldung unter\\":\\" 089/3153806 bzw. anmeldung@vhsosh.de
LOCATION;CHARSET=UTF-8:VHS Oberschleißheim\\, Prof.-Otto-Hupp-Str. 26c\\, Raum 3
UID:27f0355d5fbfcec41378e141ea1b2bd7@f5733fa7955e83f24714ef230d4390a0
END:VEVENT
END:VCALENDAR