BEGIN:VCALENDAR
VERSION:2.0
PRODID:< http://www.open2c.de/ >
METHOD:PUBLISH
X-PUBLISHED-TTL:PT12H
BEGIN:VEVENT
CREATED:20240313T124959Z
LAST-MODIFIED:20240313T133313Z
GEO:0.000000,0.000000
ORGANIZER;CN="Lokale Agenda 21 - PG Energie und Klima\\, VHS Oberschleißheim":MAILTO:Anmeldung unter\\":\\" 089/3153806 bzw. anmeldung@vhsosh.de
DTSTAMP:20260423T182341Z
DTSTART:20240425T173000Z
DTEND:20240425T190000Z
CATEGORIES:Veranstaltung der VHS
URL:https\\":\\"//www.vhsosh.de/kurssuche/kurs/Vortrag-Photovoltaik-Anlagen-fuer-sicheren-Strom-im-Haus/241A360#inhalt
SUMMARY;CHARSET=UTF-8:Vortrag\\":\\" Photovoltaik-Anlagen für sicheren Strom im Haus\\, auch bei Netzausfall
DESCRIPTION;CHARSET=UTF-8:Trotz des hohen technischen Standards in Mitteleuropa kommen auch bei uns kurze Stromausfälle vor\\, welche manchmal fälschlicherweise als Blackouts bezeichnet werden\\, was jedoch einen großräumigen und langdauernden Stromausfall bedeutete.
 Jedoch häufen sich in jüngster Zeit Meldungen von Netzbetreibern\\, die Verbraucher sollten bei knapper verfügbarer Kraftwerks-leistung Strom sparen. Und bereits kurze Störungen im Stromnetz können unerwartete Folgeeffekte an elektrischen Geräten und Anlagen verursachen.
 Der Vortrag befähigt Sie zur schnellen Einschätzung des Umfangs von Störungen und zur persönlichen Vorsorge. Hierfür werden Lösungen wie Radios für Nah- und Weitempfang vorgestellt\\, bis hin zur Auslegung von PV-Anlagen\\, welche bei Netzstörungen weiterlaufen und wichtige Verbraucher wie Kühlschränke oder Heizungen am Laufen halten.
  
 Referent\\":\\" Alfred Bäder\\, Energieberater (HWK)\\, Dipl.-Ing. Elektrotechnik (TU)
  
 Vortrag kostenfrei\\, Anmeldung erforderlich\\":\\" anmeldung@vhsosh.de\\, bzw. Tel. 089/3153806
  
  
  
  
 Organisator   Lokale Agenda 21 - PG Energie und Klima\\, VHS Oberschleißheim
 Kontakt   Anmeldung unter\\":\\" 089/3153806 bzw. anmeldung@vhsosh.de
LOCATION;CHARSET=UTF-8:VHS Oberschleißheim\\, Prof.-Otto-Hupp-Str. 26c\\, Raum 3
UID:13a0d1e2ee67d4da085db241b1f66f0c@f5733fa7955e83f24714ef230d4390a0
END:VEVENT
END:VCALENDAR