BEGIN:VCALENDAR
VERSION:2.0
PRODID:< http://www.open2c.de/ >
METHOD:PUBLISH
X-PUBLISHED-TTL:PT12H
BEGIN:VEVENT
CREATED:20240311T103453Z
LAST-MODIFIED:20240311T104828Z
GEO:0.000000,0.000000
DTSTAMP:20260423T221239Z
DTSTART:20240313T160000Z
DTEND:20240313T160000Z
CATEGORIES:Veranstaltung
SUMMARY;CHARSET=UTF-8:Balkon-Solar
DESCRIPTION;CHARSET=UTF-8:Online Informationsveranstaltung der Energie-Agentur Ebersberg/München
  
 Sie können sich hier zur Veranstaltung anmelden\\":\\" https\\":\\"//join.next.edudip.com/de/webinar/basis-beratung-balkon-pv/1971981 
LOCATION;CHARSET=UTF-8:
UID:03ec0a46c9585e3e8425134103c8193c@f5733fa7955e83f24714ef230d4390a0
END:VEVENT
END:VCALENDAR