BEGIN:VCALENDAR
VERSION:2.0
PRODID:< http://www.open2c.de/ >
METHOD:PUBLISH
X-PUBLISHED-TTL:PT12H
BEGIN:VEVENT
CREATED:20240216T115223Z
LAST-MODIFIED:20240216T115945Z
GEO:0.000000,0.000000
ORGANIZER;CN="Agenda 21 PG Natur und BUND Naturschutz Schleißheim"DTSTAMP:20260423T164042Z
DTSTART:20240504T080000Z
DTEND:20240504T110000Z
CATEGORIES:Verschiedenes
SUMMARY;CHARSET=UTF-8:Landschaftspflegeaktion im Moos gemeinsam mit BUND Naturschutz und AGENDA 21 Unterschleißheim  zwischen Schleißheim und Dachau
DESCRIPTION;CHARSET=UTF-8:Magerrasenflächen und Streuobstwiesen bieten der Tier- und Pflanzenwelt einen besonderen Rückzugsort\\, um sich entwickeln zu können. Doch diese Flächen wollen behutsam und zur rechten Zeit gepflegt werden\\, damit sie nicht verbuschen und im Schatten von Sträuchern verschwinden. Dazu benötigen wir viele helfende Hände.
 Werkzeug wird gestellt. Feste Kleidung und Schuhwerk sind erforderlich. Aktion für die ganze Familie.
  
 Pflegemaßnahme Orchideen- und Streuobstwiese mit angrenzendem Magerrasen südlich B471 mit BUND Naturschutz
 Heckenpflege\\, Samstag\\, 04.05.2024\\, ab 10\\":\\"00h\\, Dauer jeweils ca.2-3 Stunden 
 Organisator   Agenda 21 PG Natur und BUND Naturschutz Schleißheim
LOCATION;CHARSET=UTF-8:Treffpunkt\\":\\" Parkplatz am Kalterbachweg / Streuobstwiese
UID:872c44cacc46e1b23f7752e772a9f026@f5733fa7955e83f24714ef230d4390a0
END:VEVENT
BEGIN:VEVENT
CREATED:20240502T082154Z
LAST-MODIFIED:20240502T084659Z
GEO:0.000000,0.000000
DTSTAMP:20260423T164042Z
DTSTART:20240504T220000Z
DTEND:20240504T220000Z
CATEGORIES:Sport
SUMMARY;CHARSET=UTF-8:Internationale Junioren-Regatta am 4./5. Mai an der Regattaanlage
DESCRIPTION;CHARSET=UTF-8:U17- und U19-Ruderwelt auf Medaillenjagd in Bayern
 München ist am 4. und 5. Mai 2024 wieder das Mekka des internationalen Regattanachwuchses\\":\\" 154 Vereine schicken rund 800 Ruderinnen und Ruderer von 15 bis 18 Jahren aus vierzehn Nationen an den Start. Die Regatta\\, die 1995 zum ersten Mal ausgerichtet wurde\\, gilt als die wichtigste internationale Leistungsüberprüfung vor den U19-Europameisterschaften im polnischen Kruszwica.
 In insgesamt 73 Rennen und 221 Läufen gehen die 15- und 16-jährigen Ruderinnen und Ruderer auf der 1.500-Meter-Strecke an den Start\\, die 17- und 18-Jährigen absolvieren 2.000 Meter. Das Meldeergebnis kann sich wieder sehen lassen\\":\\" In Summe belegen die vierzehn Nationen – Deutschland\\, Frankreich\\, Großbritannien\\, Kroatien\\, Moldawien\\, die Niederlande\\, Österreich\\, Polen\\, Portugal\\, die Schweiz\\, Slowenien\\, die Slowakei\\, die Tschechische Republik und Tunesien – knapp 2.200 Rollsitze.
 „Seit 1995 sind uns die großen Rudernationen Europas treu und kommen mit ihren Nachwuchstalenten in großer Zahl nach München\\, das macht uns durchaus stolz“\\, sagt Oliver Bettzieche\\, Vorstandsvorsitzender von Regatta München e.V. „Für unsere 100 ehrenamtlichen Helferinnen und Helfer ist das Ansporn\\, Jahr für Jahr eine gelungene und professionell organisierte Regatta umzusetzen.“
 Interessierte Besucher können die Junioren-Regatta sowohl am Samstag als auch am Sonntag ab 8 Uhr verfolgen. Der Eintritt ist an beiden Tagen frei. Siegerehrungen finden fortlaufend statt. Die 250 Meter lange Tribüne ist leider seit 2021 aus Brandschutzgründen bei Veranstaltungen dauerhaft gesperrt\\, die Rennen können aber im Bereich vor der Tribüne und von der Gegenseite aus verfolgt werden. Die Höhepunkte der Regatta\\, die Achterfinals der A-Juniorinnen sowie der A-Junioren\\, werden am Sonntagnachmittag ausgefahren.
 Zeitplan und Meldeergebnis Den Zeitplan der Regatta finden Sie hier\\, das Meldeergebnis hier.
 Live-Streaming Wer am 4. und 5. Mai nicht nach München kommen kann\\, um seine Favoriten anzufeuern\\, der kann zumindest virtuell mitfiebern\\":\\" Alle Rennen überträgt Regatta München e.V. live per Stream. Der Live-
 Stream findet sich mit dem Start der Hauptläufe der Regatta am Samstag ab ca. 10\\":\\"30 Uhr und am Sonntag ab 8 Uhr auf der Website von Regatta München\\":\\" www.regatta.de
 Parallel dazu kann das Renngeschehen per Live-Stream auch bei Sportdeutschland.tv verfolgt werden.
  
 Über Regatta München e.V.
 Regatta München e.V.\\, der 2013 gegründete Regattaverband der Metropolregion München\\, führt den traditionellen und erfolgreichen internationalen Regattabetrieb an der olympischen Regattastrecke von 1972 fort. Für die Ausrichtung der Regatten stützt sich der gemeinnützige Verein auf engagierte Privatpersonen\\, Ruder- und Kanuvereine und sportbegeisterte Wirtschaftsunternehmen als Mitglieder sowie auf ehrenamtliche Helfer und verlässliche Partner. Regatta München e.V. wird vom Referat für Bildung und Sport der Landeshauptstadt München gefördert.
  
LOCATION;CHARSET=UTF-8:
UID:cd11c846c7b1114535ab44a5a461e17e@f5733fa7955e83f24714ef230d4390a0
END:VEVENT
BEGIN:VEVENT
CREATED:20240405T082238Z
LAST-MODIFIED:20240405T082419Z
GEO:0.000000,0.000000
ORGANIZER;CN="Energieagentur Ebersberg"DTSTAMP:20260423T164042Z
DTSTART:20240508T150000Z
DTEND:20240508T150000Z
CATEGORIES:Vorträge
SUMMARY;CHARSET=UTF-8:Das kleine Kraftwerk auf dem Balkon\\":\\" Online-Basis-Beratung zu Steckersolaranlagen
DESCRIPTION;CHARSET=UTF-8:Eigener Solarstrom ist nicht nur Hausbesitzerinnen und -besitzern vorbehalten – auch Menschen\\, die zur Miete wohnen oder über eine Eigentumswohnung verfügen\\, können zum Beispiel auf ihrem Balkon\\, auf der Terrasse\\, auf einem Garagendach oder an der Hauswand kleineSonnenkraftwerke betreiben. Dadurch lässt sich die Stromrechnung senken und der Autarkiegrad erhöhen.Wie das funktioniert\\, warum es sich lohnt und was dabei zu beachten ist\\, erläutert und diskutiert Energieberater Tobias Sassmann von der Energieagentur Ebersberg-München gGmbH am Mittwoch\\, 8. Mai\\, ab 17 Uhr bei der Online-Basis-Beratung „Balkonkraftwerke – einstecken\\,Solarstrom ernten!“  
 Die Teilnahme ist kostenfrei\\, die Anmeldung möglich unter\\":\\" www.energieagentur-ebe-m.de/termine
 Organisator   Energieagentur Ebersberg
LOCATION;CHARSET=UTF-8:Online
UID:acd6dfc9419a01f30967b505d5a234bf@f5733fa7955e83f24714ef230d4390a0
END:VEVENT
BEGIN:VEVENT
CREATED:20240507T104312Z
LAST-MODIFIED:20240507T104624Z
GEO:0.000000,0.000000
ORGANIZER;CN="KIRCHHEIM 2024 GMBH\\, Henschelring 2a\\, 85551 Kirchheim b. München"DTSTAMP:20260423T164042Z
DTSTART:20240519T220000Z
DTEND:20240519T220000Z
CATEGORIES:Verschiedenes
SUMMARY;CHARSET=UTF-8:Landesgartenschau\\":\\" Oberschleißheim ist dabei vom 20.-24. Mai 2024
DESCRIPTION;CHARSET=UTF-8:Die Landesgartenschau kommt erstmals in den Landkreis München und öffnet ihre Pforten täglich von 15. Mai bis 6. Oktober im neu angelegten 10 ha großen Ortspark zwischen Kirchheim und Heimstetten. Auch die Gemeinde Oberschleißheim präsentiert sich in einer Dauerausstellung im Pavillon des Landkreises München („Sonnentreff“)\\, sowie mit verschiedenen Veranstaltungen\\, die überwiegend im Landkreis-Pavillon („Sonnentreff“)\\, in der ersten Pfingstferienwoche stattfinden. 
  Mit den Schloßpfeiffern über die Landesgartenschau
 Parkoase | 19. Mai 2024 | 14\\":\\"00 - 15\\":\\"00 Uhr
 Erleben Sie den Spielmannzug \\"Schleißheimer Schloßpfeiffer\\" an verschiedenen Orten auf dem Gelände mit kurzen Musikeinlagen. Die \\"Schleißheimer Schloßpfeiffer\\" treten immer in ihren historischen Uniformen auf. Die Uniform stammt aus dem 2. Linien-Infanterie-Regiment Kurprinz 1805. Träger des Regiments war Kurprinz Ludwig\\, Sohn von Kurfürst Maximilian IV Joseph von der Pfalz/ Bayern\\, der 1806 1. Bayerische König\\, Max der I. Joseph wurde. Kurprinz Ludwig wurde 1825 als König 1. von Bayern sein Nachfolger.
  
  
 \\"Ein Tag mit Biene Maja\\" am Weltbienentag
 Sonnentreff | 20. Mai 2024  und 24. Mai 2024| 10\\":\\"00 - 18\\":\\"00 Uhr
 In einer kleinen Ausstellung zeigen wir die Entstehungs- und Entwicklungsgeschichte der Biene Maja in Oberschleißheim auf und stellen den Autor Waldemar Bonsels kurz vor. Ganztägig finden Aktionen zur Biene Maja statt\\":\\" An Malstaffeleien kann mit Pastellkreiden zum Thema \\"Biene Maja und ihre Freunde\\" gemalt werden. Laufend finden Lesungen aus dem Originalbuch \\"Die Biene Maja und ihre Abenteuer\\" statt. An einem eigenen Tisch können kleine Bienen gefilzt werden.
 Von und mit Christine Ezzat und Ingrid Lindbüchl/Tourismus Schleißheim e.V. Arbeitskreis Tourismus &amp\\; Schule)
 Der Beitrag findet am 20.05. und am 24.05 im Landkreis-Pavillon statt.
 ---------------------------------------------------------------------------------------------
 Gesunde Tierernährung Beratung von Dr. med. vet.\\, Anna Lineva\\, Fachtierärztin für Tierernährung (Ernährungsberatung\\, Vitamine für Hunde und Katzen\\, fertige Rezepte für hausgemachte Rationen\\, Online-Schule mit verschiedenen Programmen für Besitzer\\, Züchter und Tierärzte)
  
  Natürliche Natur- Gemäldeausstellung\\, Zeichnung\\, Pastell\\, Aquarell\\, Mischtechnik
 Sonnentreff | 20. Mai 2024
 Mein Name ist Vlado\\, ich wohne seit 10 Jahren in Oberschleißheim. Ich male seit meiner Kindheit\\, ich mag es besonders\\, Natur und Tiere darzustellen. Ich male in verschiedenen Techniken\\, das sind vor allem Bleistiftzeichnung\\, Pastell\\, Aquarell und gemischte d gemischte Technik. Sie können die Bilder\\, die Sie mögen\\, im Original oder in der Reproduktion erhalten. Alle Gemälde sind in Passepartout und auf Wunsch im Rahmen dekoriert.
 Ausstellung von Vladimir Epifan
  
  Zünftige Blasmusik mit der Blaskapelle Oberschleissheim
 Park-Pavillon-Bühne | 21. Mai 2024 | 17\\":\\"30 - 19\\":\\"00 Uhr
 Unterhaltung mit bayerischer Blasmusik\\, mit einer Auswahl an Blasmusikstücken von Marsch über Walzer bis zur Polka.
  
  Bläsermusik aus Renaissance &amp\\; Barock - Kostümschau der Barockgruppe
 Sonnentreff | 22. Mai 2024
 Festliche Bläsermusik aus Renaissance und Barock\\; Intraden und Tänze von Gabrieli\\, Händel u.vm. Erleben Sie außerdem eine Kostümschau der Barockgruppe Freunde aus Schleißheim.
 11-15 Uhr Kostümschau der Barockgruppe Freunde aus Schleißheim
 ab 13 Uhr Bläsermusik aus Renaissance &amp\\; Barock mit dem Blechbläserquartett Schleißheim
 Der Beitrag findet im Landkreis- Pavillon statt.
  
  
 Mittwoch\\, 22.Mai 2024 im Parkpavillon\\, 18\\":\\"30 - 19\\":\\"00 Uhr\\":\\" Schleißheimer Narrenrat e.V. -  Showtanz mit akrobatischen Hebefiguren
  Die Obstarche Schleißheim und die Schlossbrennerei
 Sonnentreff | 23. Mai 2024\\":\\" Eine kleine Ausstellung zur \\"Obstarche Schleißheim\\" (Geschichte und Gegenwart der historischen Obstanlagen der Schleißheimer Schlossanlage) und der daraus resultierenden Schlossbrennerei\\, sowie eine Verkostung der Schleißheimer Schlossbrände.
  
  Funkverkehr - Live Musik
 Park-Pavillon-Bühne | 23. Mai 2024 | 17\\":\\"30 - 19\\":\\"00 Uhr
 Von Rock´N´Roll\\, Schlager\\, Partymusik bis hin zu Rock Klassiker ist der Funkverkehr bekannt für beste Stimmung und guter Laune. Für Alt und Jung ist bei uns immer etwas dabei. 
  
  
 23.05.24 | 10\\":\\"00 - 17\\":\\"00 Uhr
 VOM SCHAF ZUM KLEIDUNGSSTÜCK
 Beobachten Sie wie Rohwolle verarbeitet werden kann. Mit Hilfe von Webstuhl und Spinnrad wird die Wolle in vielfältige Endprodukte verarbeitet.
 Der Beitrag findet im Landkreis- Pavillon statt.
  
 Freitag\\, 24.Mai 2024 im Parkpavillon\\, 18\\":\\"00 Uhr\\":\\" Auftritt Narrhalla Oberschleißheim
  
 An allen Tagen 20.-24. Mai vor dem Landkreispavillon\\":\\"
 Infostand Tourismus Schleißheim e.V. und Ausstellung Biene Maja
 Infostand &amp\\; Glücksrad der Initiative Klimaneutral 2035 am 21.05.\\,  22.05. und 23.05.
  
  
 Weitere Informationen\\":\\" www.kirchheim24.de
 KIRCHHEIM 2024 GMBH\\, Henschelring 2a\\, 85551 Kirchheim b. München  Tel.\\":\\" 089/90 909-2024 E-Mail\\":\\" info@lgs2024.de
 Organisator   KIRCHHEIM 2024 GMBH\\, Henschelring 2a\\, 85551 Kirchheim b. München
LOCATION;CHARSET=UTF-8:85551 Kirchheim b. München
UID:98672eb43391b8883423008e34154eb0@f5733fa7955e83f24714ef230d4390a0
END:VEVENT
END:VCALENDAR