BEGIN:VCALENDAR
VERSION:2.0
PRODID:< http://www.open2c.de/ >
METHOD:PUBLISH
X-PUBLISHED-TTL:PT12H
BEGIN:VEVENT
CREATED:20240216T115223Z
LAST-MODIFIED:20240216T115945Z
GEO:0.000000,0.000000
ORGANIZER;CN="Agenda 21 PG Natur und BUND Naturschutz Schleißheim"DTSTAMP:20260423T182258Z
DTSTART:20240504T080000Z
DTEND:20240504T110000Z
CATEGORIES:Verschiedenes
SUMMARY;CHARSET=UTF-8:Landschaftspflegeaktion im Moos gemeinsam mit BUND Naturschutz und AGENDA 21 Unterschleißheim  zwischen Schleißheim und Dachau
DESCRIPTION;CHARSET=UTF-8:Magerrasenflächen und Streuobstwiesen bieten der Tier- und Pflanzenwelt einen besonderen Rückzugsort\\, um sich entwickeln zu können. Doch diese Flächen wollen behutsam und zur rechten Zeit gepflegt werden\\, damit sie nicht verbuschen und im Schatten von Sträuchern verschwinden. Dazu benötigen wir viele helfende Hände.
 Werkzeug wird gestellt. Feste Kleidung und Schuhwerk sind erforderlich. Aktion für die ganze Familie.
  
 Pflegemaßnahme Orchideen- und Streuobstwiese mit angrenzendem Magerrasen südlich B471 mit BUND Naturschutz
 Heckenpflege\\, Samstag\\, 04.05.2024\\, ab 10\\":\\"00h\\, Dauer jeweils ca.2-3 Stunden 
 Organisator   Agenda 21 PG Natur und BUND Naturschutz Schleißheim
LOCATION;CHARSET=UTF-8:Treffpunkt\\":\\" Parkplatz am Kalterbachweg / Streuobstwiese
UID:872c44cacc46e1b23f7752e772a9f026@f5733fa7955e83f24714ef230d4390a0
END:VEVENT
END:VCALENDAR