BEGIN:VCALENDAR
VERSION:2.0
PRODID:< http://www.open2c.de/ >
METHOD:PUBLISH
X-PUBLISHED-TTL:PT12H
BEGIN:VEVENT
CREATED:20231120T114922Z
LAST-MODIFIED:20251127T111505Z
GEO:0.000000,0.000000
ORGANIZER;CN="Gemeinde Oberschleißheim"DTSTAMP:20260422T003302Z
DTSTART:20251212T140000Z
DTEND:20251213T230000Z
CATEGORIES:Weihnachten
SUMMARY;CHARSET=UTF-8:Christkindlmarkt
DESCRIPTION;CHARSET=UTF-8:Es weihnachtet wieder in Oberschleißheim\\":\\" Am 3. Adventswochenende laden die Gemeinde und die Oberschleißheimer Vereine herzlich ein zum Christkindlmarkt auf dem Bürgerplatz! An allen drei Tagen ist nachmittags ein schönes Rahmenprogramm geboten\\, dazu gibt es weihnachtliche Leckereien von den Oberschleißheimer Vereinen. 
 Am Samstag und Sonntag bieten zusätzlich noch Hobbykünstler im Saal des Bürgerhauses ihre Werke an. 
  
 Organisator   Gemeinde Oberschleißheim
LOCATION;CHARSET=UTF-8:Bürgerplatz
UID:efe380990f514613b5f3e12b7038f1ed@f5733fa7955e83f24714ef230d4390a0
END:VEVENT
END:VCALENDAR