BEGIN:VCALENDAR
VERSION:2.0
PRODID:< http://www.open2c.de/ >
METHOD:PUBLISH
X-PUBLISHED-TTL:PT12H
BEGIN:VEVENT
CREATED:20221111T092555Z
LAST-MODIFIED:20221111T102630Z
GEO:0.000000,0.000000
DTSTAMP:20260420T090537Z
DTSTART:20221125T190000Z
DTEND:20221125T190000Z
CATEGORIES:Fasching
SUMMARY;CHARSET=UTF-8:Proklamation der Narrhalla Oberschleißheim
DESCRIPTION;CHARSET=UTF-8:Termine der Narrhalla Oberschleißheim für die
 Faschingssession 2022/2023
  
 
 
 
 
 25.11.2022
 
 
 Proklamation im Bürgerhaus Oberschleißheim
 
 
 
 
  
 
 
 Beginn\\":\\" 20 Uhr
 
 
 Einlass\\":\\" 19 Uhr
 
 
 Eintritt\\":\\" 8 Euro
 
 
 
 
  
 
 
  
  
 
 
  
 
 
  
 
 
 
 
 05.01.2023
 
 
 Inthronisation im Bürgerhaus Oberschleißheim
 
 
 
 
  
 
 
 Beginn\\":\\" 20 Uhr
 
 
 Einlass\\":\\" 19 Uhr
  
 
 
 Eintritt\\":\\" 10 Euro
  
  
 
 
 
 
 15.01.2023
 
 
 1. Kinderball im Bürgerhaus Oberschleißheim
 
 
 
 
                                                      
 
 
 Beginn\\":\\" 14 Uhr
 
 
 Eintritt\\":\\" Erwachsene 5 Euro &amp\\; Kinder 3 Euro
 
 
 
 
  
 
 
  
 
 
  
  
 
 
  
 
 
 
 
 21.01.2023
 
 
 Galaball im Bürgerhaus Oberschleißheim
 
 
 
 
  
 
 
 Beginn\\":\\" 20 Uhr
 
 
 Einlass\\":\\" 19 Uhr
 
 
 Eintritt\\":\\" 15 Euro
  
 
 
 
 
  
 
 
  
 
 
  
 
 
  
 
 
 
 
 20.02.2023
 
 
 2. Kinderball im Bürgerhaus Oberschleißheim
 
 
 
 
  
 
 
 Beginn\\":\\" 14 Uhr
 
 
 Eintritt\\":\\" Erwachsene 5 Euro &amp\\; Kinder 3 Euro
 
 
 
 
  
 
 
  
  
 
 
  
 
 
  
 
 
 
 
 16.02.2023
 
 
 Weiberfasching im Bürgerhaus Oberschleißheim
 
 
 
 
  
 
 
 Beginn\\":\\" 19 Uhr
 
 
 Einlass\\":\\" 18 Uhr
 
 
 Eintritt\\":\\" 10 Euro
  
 
 
 
 
  
 
 
  
 
 
  
 
 
  
 
 
 
 
 19.02.2023
 
 
 Faschingstreiben am Bürgerplatz Oberschleißheim
 
 
 
 
  
 
 
 Beginn\\":\\" 13 Uhr
 
 
 Eintritt\\":\\" Frei
 
 
  
 
 
 
 
  
  
 Karten für die Proklamation und Inthronisation ab dem 28.10.2022. Karten für den Galaball und den Weiberball ab dem 25.11.2022. Karten für den Kinderfasching an der Veranstaltungskasse.
  
 Kartenvorverkauf\\":\\"
 Termina GmbH – Werbetechnik\\, Freisinger Str. 11 (gegenüber der Feuerwehr)\\, 85764 Oberschleißheim\\, Telefon\\":\\" 089/315 41 70 E-Mail\\":\\" PeterRamm@termina.de
  
  
LOCATION;CHARSET=UTF-8:
UID:a48ca05801cb9453f835996cf556784e@f5733fa7955e83f24714ef230d4390a0
END:VEVENT
END:VCALENDAR