BEGIN:VCALENDAR
VERSION:2.0
PRODID:< http://www.open2c.de/ >
METHOD:PUBLISH
X-PUBLISHED-TTL:PT12H
BEGIN:VEVENT
CREATED:20220810T100512Z
LAST-MODIFIED:20220810T101114Z
GEO:0.000000,0.000000
ORGANIZER;CN="Dachauer Moos e.V."DTSTAMP:20260421T104644Z
DTSTART:20220925T130000Z
DTEND:20220925T130000Z
CATEGORIES:Theater - Kinder
SUMMARY;CHARSET=UTF-8:Wanderndes Theater\\":\\" Auf der Suche nach dem guten Geist im Dachauer Moos
DESCRIPTION;CHARSET=UTF-8:Was passiert\\, wenn sich eine neugierige\\, in der Theorie sehr kundigen\\, aber etwas weltfremde Forscherin gemeinsam mit dem Publikum auf die Suche nach dem guten Geist im Dachauer Moos macht? Ganz einfach! Sie begegnen einem Torfstecher\\, einem Diri-Dari-Deifi\\,einer Landschaftsmalerin\\, einem buntbehosten Radler und noch so manch´ anderen phantastischen Wesen.
 Das Wald der Bilder - Ensemble ist mit einer Neuinszenierung und zum Teil in neuer Besetzung zurück am Obergrashof und lädt Groß und Klein zu einer phantasievollen\\, unterhaltsamen Wanderung ein\\, bei der Vergangenheit und Gegenwart miteinander verschmelzen.Erleben Sie das Dachauer Moos als Bühne und tauchen sie zusammen mit der Forscherin in die Geschichte(n) einer Landschaft ein\\, deren einstmals wildromantische Natur sich zu einer boomenden\\, aber auch konfliktträchtigen Metropolregion entwickelt hat.Wird die Forscherin den guten Geist finden? Wer oder was ist überhaupt „der gute Geist“?Seien Sie dabei und finden Sie gemeinsam mit der Forscherin die Antworten.
 Eine Inszenierung des Wald-der-Bilder-Ensembles
  
 Leitung\\":\\" Michaela SoidererAkteure\\":\\" Nina Stazol\\, Carolin Schubert\\, Markus NauMusik\\":\\" Stefan Schreiber
 Premiere\\":\\" So 25.09.22\\, 15 Uhr
 Weitere Termine\\":\\" Mo 03.10 &amp\\; So 09.10.22\\, jeweils um 15 Uhr
 Veranstaltungsort\\":\\" Obergrashof 1\\; 85221 Dachau\\; am Umwelthaus des Dachauer Moos e.V.
  
 Eintritt\\":\\" Erwachsene 10 €\\; Kinder und Jugendliche 6 €\\; Familientarif\\":\\" 25 €Ermäßigung auf Anfrage
  
 Begrenzte Teilnehmerzahl\\, um Reservierung wird gebeten.Anmeldung unter\\":\\" info@michaela-soiderer.de oder www.wald-der-bilder.deTicketverkauf vor Ort ab 14\\":\\"30 Uhr des Veranstaltungstages\\; Reservierungen\\, die bis 14\\":\\"55Uhr nicht eingelöst werden\\, können anderweitig vergeben werden.
 Organisator   Dachauer Moos e.V.
LOCATION;CHARSET=UTF-8:Obergrashof 1 (Umwelthaus)
UID:26198d5a3e3bf8a09f97ff68008f28c4@f5733fa7955e83f24714ef230d4390a0
END:VEVENT
END:VCALENDAR