BEGIN:VCALENDAR
VERSION:2.0
PRODID:< http://www.open2c.de/ >
METHOD:PUBLISH
X-PUBLISHED-TTL:PT12H
BEGIN:VEVENT
CREATED:20220718T085119Z
LAST-MODIFIED:20220718T090145Z
GEO:0.000000,0.000000
ORGANIZER;CN="Nordallianz"DTSTAMP:20260421T104644Z
DTSTART:20220718T140000Z
DTEND:20220718T180000Z
CATEGORIES:Verschiedenes
SUMMARY;CHARSET=UTF-8:Marktplatz der Ideen - Workshop zum IDEK der NordAllianz
DESCRIPTION;CHARSET=UTF-8:Die NordAllianz macht sich auf\\, digital zu werden. Erfahren Sie\\, welche Projekte bisher identifiziert sind\\, disktieren Sie mit und bringen Sie eigene Ideen ein. Alle Bürgerinnen und Bürger der NordAllianz sind eingeladen\\, sich zu informieren und einzubringen.
 Wir freuen uns auf Ihr Feedback &amp\\; Ihre Ideen!
  
 Organisator   Nordallianz
LOCATION;CHARSET=UTF-8:Bürgerplatz Oberschleißheim
UID:a356c06b23baea4d5658883e82739d24@f5733fa7955e83f24714ef230d4390a0
END:VEVENT
END:VCALENDAR