BEGIN:VCALENDAR
VERSION:2.0
PRODID:< http://www.open2c.de/ >
METHOD:PUBLISH
X-PUBLISHED-TTL:PT12H
BEGIN:VEVENT
CREATED:20220225T120240Z
LAST-MODIFIED:20220225T121112Z
GEO:0.000000,0.000000
ORGANIZER;CN="Lokale Agenda 21 - Projektgruppe Natur\\, zusammen mit Lokale Agenda 21 Unterschleißheim und BUND Naturschutz"DTSTAMP:20260421T091120Z
DTSTART:20221008T080000Z
DTEND:20221008T080000Z
CATEGORIES:Verschiedenes
SUMMARY;CHARSET=UTF-8:Landschaftspflegeaktion im Moos zwischen Schleißheim und Dachau
DESCRIPTION;CHARSET=UTF-8:Magerrasenflächen und Streuobstwiesen bieten der Tier- und Pflanzenwelt einen besonderen Rückzugsort\\, um sich entwickeln zu können. Doch diese Flächen wollen behutsam und zur rechten Zeit gepflegt werden\\, damit sie nicht verbuschen und im Schatten von Sträuchern verschwinden. Dazu benötigen wir viele helfende Hände.
 Werkzeug wird gestellt. Feste Kleidung und Schuhwerk sind erforderlich. Aktion für die ganze Familie.
 Organisator   Lokale Agenda 21 - Projektgruppe Natur\\, zusammen mit Lokale Agenda 21 Unterschleißheim und BUND Naturschutz
LOCATION;CHARSET=UTF-8:Treffpunkt\\":\\" Parkplatz am Kalterbachweg / Streuobstwiese
UID:e16dcf17746d1b57c94ae5d6fadd06b8@f5733fa7955e83f24714ef230d4390a0
END:VEVENT
BEGIN:VEVENT
CREATED:20210702T090753Z
LAST-MODIFIED:20220131T142748Z
GEO:0.000000,0.000000
ORGANIZER;CN="Lokale Agenda 21 - Projektgruppe Energie und Klima":MAILTO:Anmeldung erforderlich! 
 Tel.\\":\\" 089/3153806 oder www.vhsosh.de
DTSTAMP:20260421T091120Z
DTSTART:20221013T173000Z
DTEND:20221013T190000Z
CATEGORIES:Vorträge
URL:http\\":\\"//www.vhsosh.de
SUMMARY;CHARSET=UTF-8:Vortrag\\":\\" Fernwärmeabrechnungen richtig lesen
DESCRIPTION;CHARSET=UTF-8:Anforderungen an Energierechnungen
 Kostenfaktoren in den Energiepreisen
 Entwicklung der Energiepreise aktuell
 Wie lese ich die Energierechnung richtig?
 
 Referent\\":\\" Dipl. – Ing. Andreas Turloff
 Theneo GmbH &amp\\; Co. KG
  
 Alle Energie-Vorträge gebührenfrei\\, Zugang aber nur nach vorheriger Anmeldung bei der VHS unter 089/3153806 oder www.vhsosh.de!
 Organisator   Lokale Agenda 21 - Projektgruppe Energie und Klima
 Kontakt   Anmeldung erforderlich! 
 Tel.\\":\\" 089/3153806 oder www.vhsosh.de
LOCATION;CHARSET=UTF-8:VHS Oberschleißheim\\, Prof.-Otto-Hupp-Str. 26c
 85764 Oberschleißheim
UID:e3f48fd8e0c17c5e2d12327dc1df8a83@f5733fa7955e83f24714ef230d4390a0
END:VEVENT
BEGIN:VEVENT
CREATED:20220225T120758Z
LAST-MODIFIED:20220225T121051Z
GEO:0.000000,0.000000
ORGANIZER;CN="Lokale Agenda 21 - Projektgruppe Natur"DTSTAMP:20260421T091120Z
DTSTART:20221026T180000Z
DTEND:20221026T180000Z
CATEGORIES:Vorträge
SUMMARY;CHARSET=UTF-8:Vortrag - Kanalsystem Schloss Schleißheim
DESCRIPTION;CHARSET=UTF-8:Das Schleißheim – Dachauer - Kanalsystem aus dem 17. Jahrhundert\\, eine kurzweilige Entdeckungsreise an versteckten Schlössern vorbei\\, durch die Natur- und Kulturlandschaft der Schotterebene bis hin zu unbekannten Fotomotiven. Paul Eschbach ist bekannt als Fotograf\\, Buchautor und Experte am Flugplatz Schleißheim. In diesem Vortrag entführt er Sie zu den Schönheiten eines der größten barocken Bauwerke in Süddeutschland.
 Organisator   Lokale Agenda 21 - Projektgruppe Natur
LOCATION;CHARSET=UTF-8:Bürgerzentrum Oberschleissheim\\, Theodor – Heuss - Str.29\\, 1.Stock
UID:2f27a5f2775124cd23ffcda921ff873c@f5733fa7955e83f24714ef230d4390a0
END:VEVENT
END:VCALENDAR