BEGIN:VCALENDAR
VERSION:2.0
PRODID:< http://www.open2c.de/ >
METHOD:PUBLISH
X-PUBLISHED-TTL:PT12H
BEGIN:VEVENT
CREATED:20220128T084041Z
LAST-MODIFIED:20220131T130232Z
GEO:0.000000,0.000000
ORGANIZER;CN="Lokale Agenda 21 - Projektgruppe Energie und Klima":MAILTO:Telefon\\":\\" 089/315 38 06
 www.vhsosh.de
DTSTAMP:20260421T102328Z
DTSTART:20220203T183000Z
DTEND:20220203T200000Z
CATEGORIES:Vorträge
SUMMARY;CHARSET=UTF-8:Online-Vortrag\\":\\" Resilienz und selbst erzeugte Energie im Hause vs. Blackout
DESCRIPTION;CHARSET=UTF-8:Trotz des hohen technischen Standards in Mitteleuropa sind auch bei uns großflächige und langanhaltende Stromausfälle möglich\\, die sog. Blackouts. Der Vortrag behandelt kostengünstige kleine Solarstromquellen bis hin zu großen PV-Anlagen mit Speichern\\, welche auch bei Stromausfall Energie liefern\\, um weiterhin elektrische Geräte im Haus zu betreiben\\, oder sogar nennenswerte Fahrleistungen mit Elektrofahrzeugen zu erzielen. Neben technischen Lösungen werden persönliche Vorkehrungen vorgestellt\\, um diese Ausnahmesituation sicher zu bewältigen.
  
 Referent\\":\\" Dipl.-Ing. Alfred Bäder
 Organisator   Lokale Agenda 21 - Projektgruppe Energie und Klima
 Kontakt   Telefon\\":\\" 089/315 38 06
 www.vhsosh.de
LOCATION;CHARSET=UTF-8:Online-Vortrag! Anmeldung erforderlich!
UID:3024e6979d38d5a0230fcf872ecee1a6@f5733fa7955e83f24714ef230d4390a0
END:VEVENT
END:VCALENDAR