BEGIN:VCALENDAR
VERSION:2.0
PRODID:< http://www.open2c.de/ >
METHOD:PUBLISH
X-PUBLISHED-TTL:PT12H
BEGIN:VEVENT
CREATED:20210702T082815Z
LAST-MODIFIED:20210702T083510Z
GEO:0.000000,0.000000
ORGANIZER;CN="Lokale Agenda 21 - Projektgruppe Energie und Klima":MAILTO:Anmeldung bei der VHS unter 089/3153806 oder www.vhsosh.de
DTSTAMP:20260421T104723Z
DTSTART:20211202T183000Z
DTEND:20211202T200000Z
CATEGORIES:Vorträge
URL:http\\":\\"//www.vhsosh.de
SUMMARY;CHARSET=UTF-8:Neue BEG-Förderung für Wohn- und Nichtwohngebäude
DESCRIPTION;CHARSET=UTF-8:was ist BEG?
 die neuen Förderprogramme von KfW und Bafa
 Förderprogramme für Wohngebäude
 Förderprogramme für Nicht-Wohngebäude
 Förderprogramme für Einzelmaßnahmen
 
  
 Alle Energie-Vorträge gebührenfrei\\, Zugang aber nur nach vorheriger Anmeldung bei der VHS unter 089/3153806 oder www.vhsosh.de!
  
 Referent\\":\\" Dipl.-Ing. Tibor Szigeti
 Ingenieurbüro S &amp\\; T\\, Energieeffizienzberater Osh
 Organisator   Lokale Agenda 21 - Projektgruppe Energie und Klima
 Kontakt   Anmeldung bei der VHS unter 089/3153806 oder www.vhsosh.de
LOCATION;CHARSET=UTF-8:VHS Oberschleißheim\\, Prof.-Otto-Hupp-Str. 26c
 85764 Oberschleißheim
UID:dffe1c04a2d690e86f7aa954d4a4bd36@f5733fa7955e83f24714ef230d4390a0
END:VEVENT
END:VCALENDAR