BEGIN:VCALENDAR
VERSION:2.0
PRODID:< http://www.open2c.de/ >
METHOD:PUBLISH
X-PUBLISHED-TTL:PT12H
BEGIN:VEVENT
CREATED:20210215T103950Z
LAST-MODIFIED:20220503T144314Z
GEO:0.000000,0.000000
ORGANIZER;CN="Gemeinde Oberschleißheim\\, Kulturteam":MAILTO:Organisation\\, Presse\\, Werbung
 Gaby Hohenberger\\, gaby.hohenberger@t-online.de\\, Tel.\\":\\" 089/ 3154175
 Tickets\\, Abendkasse\\, Homepage
 Gaby Mohr\\, gm-kultur@gmx.net\\, Tel.\\":\\" 015209889262
 Kulturteam Oberschleißheim
 kultur@oberschleissheim.de
DTSTAMP:20260421T104634Z
DTSTART:20220529T173000Z
DTEND:20220529T173000Z
CATEGORIES:Konzerte allgemein
SUMMARY;CHARSET=UTF-8:Roland Hefter und die Isarrider / Sonntag\\, 29.05.2022\\, 19\\":\\"30 Uhr
DESCRIPTION;CHARSET=UTF-8:Roland Hefter und die Band Isarrider im Festzelt Oberschleißheim auf dem Volksfestplatz.am 29.05.2022
  Geschichten in mitreißende Lieder verpackt\\, direkt aus dem Leben\\, voller positiver Energie und bayrischer Lässigkeit\\, umgesetzt in klassischer Rock’n’Roll Besetzung mit zwei Gitarren (Roland Hefter / Wolfi Hierl)\\, Bass (Erich Kogler)\\, Schlagzeug (Babs Margeth) und Saxophon (Stephan Reiser).
  mehr zur Veranstaltung
 Organisator   Gemeinde Oberschleißheim\\, Kulturteam
 Kontakt   Organisation\\, Presse\\, Werbung
 Gaby Hohenberger\\, gaby.hohenberger@t-online.de\\, Tel.\\":\\" 089/ 3154175
 Tickets\\, Abendkasse\\, Homepage
 Gaby Mohr\\, gm-kultur@gmx.net\\, Tel.\\":\\" 015209889262
 Kulturteam Oberschleißheim
 kultur@oberschleissheim.de
LOCATION;CHARSET=UTF-8:Festzelt\\, Volksfestplatz Ruffinistr. OSH
UID:b9a5679c314a8d469679888d1b18c6b2@f5733fa7955e83f24714ef230d4390a0
END:VEVENT
END:VCALENDAR