BEGIN:VCALENDAR
VERSION:1.0
PRODID:Open2CKalenderExportV11
BEGIN:VEVENT
DTSTAMP:20260113T122539Z
DTSTART:20260215T120000Z
DTEND:20260215T120000Z
CATEGORIES:Fasching
SUMMARY;CHARSET=UTF-8:Faschingstreiben am Bürgerplatz
DESCRIPTION;CHARSET=UTF-8:Auf gehts zum bunten Faschingstreiben der Gemeinde und der Schleißheimer Vereine am Faschingssonntag am Bürgerplatz! | Es gibt es wie immer ein tolles Showprogramm des Schleißheimer Narrenrats und der Narrhalla Oberschleißheim, dazu Party-Musik vom DJ. Fürs leibliche Wohl ist dank der Schleißheimer Vereine bestens gesorgt!  |   | Programm/Auftritte Faschingstreiben:   13 Uhr                Eröffnung durch Ersten Bgm. Markus Böck  13.05 - 13.15 Uhr     Showprogramm des SNR, Garde und Kurfürstenpaar  13.15 - 13.30 Uhr     Musikblock  13:30 - 13:50 Uhr     Showprogramm der NOS Kids  13:50 - 14:05 Uhr     Musikblock  14:05 - 14:35 Uhr     Showprogramm der NOS Erwachsenen  14:30 - 15:45 Uhr     Musikblock 16:15 - 16:45 Uhr     SNR Kinder und Erwachsene - Showprogramm  16:45 - 18.00 Uhr     Musikblock |   | Vereine finden hier das Formular für die Anmeldung eines Verkaufsstands.  | Organisator   Gemeinde Oberschleißheim & Vereine
LOCATION;CHARSET=UTF-8:Bürgerplatz
UID:e6b2d7f42a400cf5ecd9d1d1bf2f623d-6c38197ed67fb62856a8d2a531c4f61a
PRIORITY:3
END:VEVENT
END:VCALENDAR