BEGIN:VCALENDAR
VERSION:1.0
PRODID:Open2CKalenderExportV11
BEGIN:VEVENT
DTSTAMP:20190604T220000Z
DTSTART:20190703T150000Z
DTEND:20190703T150000Z
CATEGORIES:
SUMMARY;CHARSET=UTF-8:Vorspielabend der Instrumental-, Gesangs- und Ballettklassen der VHS Oberschleißheim. Jüngere SchülerInnen und AnfängerInnen
DESCRIPTION;CHARSET=UTF-8:Die Instrumentalabteilung der VHS Oberschleißheim lädt alle Musikbegeisterten zu den inzwischen traditionell gewordenen Sommervorspielabenden im Bürgerzentrum ein. | Unsere jüngeren, talentierten InstrumentalschülerInnen, AnfängerInnen, Gesangs- und BallettteilnehmerInnen haben zusammen mit ihren engagierten LehrerInnen für den Abend ein abwechslungsreiches und unterhaltsames Programm vorbereitet und würden sich über zahlreiches Erscheinen sehr freuen. | Der Eintritt ist frei, Spenden sind erwünscht. | Organisator   VHS Oberschleißheim e.V. | Kontakt   VHS Oberschleißheim | Prof.-Otto-Hupp-Straße 26c | 85764 Oberschleißheim | Telefon:	089/3153806 | eMail: 	kontakt@vhsosh.de | Internet: 	www.vhsosh.de
LOCATION;CHARSET=UTF-8:Bürgerhaus Oberschleißheim
 Theodor-Heuss-Straße 29, 
 85764 Oberschleißheim
UID:b3297a326a20fd36caa3ba5c85e4edbd-0f0ef8113c10cfc6539dce2d7e8d40dc
PRIORITY:3
END:VEVENT
BEGIN:VEVENT
DTSTAMP:20190709T094032Z
DTSTART:20190710T170000Z
DTEND:20190710T170000Z
CATEGORIES:Konzerte allgemein
SUMMARY;CHARSET=UTF-8:Vorspielabend der Instrumental-, Gesangs- und Ballettklassen der VHS Oberschleißheim
DESCRIPTION;CHARSET=UTF-8:Die Instrumentalabteilung der VHS Oberschleißheim lädt alle Musikbegeisterten zu den inzwischen traditionell gewordenen Sommervorspielabenden im Bürgerzentrum ein. |   | Unsere fortgeschrittene, talentierten InstrumentalschülerInnen, Gesangs- und BallettteilnehmerInnen haben zusammen mit ihren engagierten LehrerInnen für den Abend ein abwechslungsreiches und unterhaltsames Programm am unterschiedlichen Instrumente auf verschiedenen Niveaus, je nach Können der Schüler, vorbereitet und würden sich über zahlreiches Erscheinen sehr freuen. |   | Der Eintritt ist frei, Spenden sind erwünscht. | Organisator   VHS Oberschleißheim e.V. | Kontakt   VHS Oberschleißheim | Prof.-Otto-Hupp-Straße 26c | 85764 Oberschleißheim | Telefon:	089/3153806 | eMail: 	kontakt@vhsosh.de | Internet: 	www.vhsosh.de
LOCATION;CHARSET=UTF-8:Bürgerhaus Oberschleißheim
 Theodor-Heuss-Straße 29, 
 85764 Oberschleißheim
UID:4e2420cd2e66a287542233294ca4e4a4-9975cf6765d3585024e61c52826deb1b
PRIORITY:3
END:VEVENT
BEGIN:VEVENT
DTSTAMP:20190618T220000Z
DTSTART:20190713T150000Z
DTEND:20190713T190000Z
CATEGORIES:
SUMMARY;CHARSET=UTF-8:Interkulturelles Sommerfest
DESCRIPTION;CHARSET=UTF-8:Zu einem interkulturellen Sommerfest mit den rund 160 Bewohnern der Flüchtlingsunterkunft an der Bahnhofstraße | laden der Helferkreis (HK) Asyl und der Caritasverband ein. Am Samstag, 13. Juli 2019, können von 17 bis 21 Uhr | Besucher auf dem Holzgarten - Gelände ein buntes Programm erleben. Die Oberschleißheimer Band „Ratatouille“ wird | Chansons und andere internationale Musik spielen, Sängerin Ute Litters - Wagatha und ihr Team führen zahlreiche | Eigenkompositionen auf. Außerdem werden Geflüchtete als DJs für Stimmung sorgen. |   | Auch die Küche ist international: aus Fleisch, Gemüse, Reis und weiteren Zutaten zaubern die Bewohner der Siedlung | typische Gerichte aus ihrer Heimat. Zudem wird es Lammfleisch vom Grill geben. Für die jüngsten Besucher organisiert | der Helferkreis Kinderschminken, Zöpfchen flechten sowie Ball- und Geschicklichkeitsspiele. Helfer und Geflüchtete | freuen sich auf zahlreiche Besucher; eine besonders herzliche Einladung ergeht an die Bewohner des Wilhelmshof, | der Fliegersiedlung und anderer angrenzender Gemeindegebiete. Auf dem interkulturellen Sommerfest haben sie | Gelegenheit, ihre vor rund einem Jahr zugezogenen Nachbarn näher kennenzulernen. | Organisator   Helferkreis (HK) Asyl und Caritas | Kontakt   asylhelfer-in-osh@outlook.de (Koordinatoren des Helferkreises)
LOCATION;CHARSET=UTF-8:
UID:a178f7c3c9356c9bb001a9a8aaab2fc1-ab595bfa21fe92c740b8eafcdcbf577f
PRIORITY:3
END:VEVENT
BEGIN:VEVENT
DTSTAMP:20190327T080800Z
DTSTART:20190714T120000Z
DTEND:20190714T140000Z
CATEGORIES:Führungen
SUMMARY;CHARSET=UTF-8:Naturkundliche Exkursion im Süden der Flugwerft Schleißheim - Natur und Flugplatz
DESCRIPTION;CHARSET=UTF-8:Das Gelände des Flugplatzes ist Natura 2000 Gelände und steht unter europäischem Naturschutz. Die Magerrasenflächen sind Teil des Heideflächenverbundes im Norden von München. Bei dieser Exkursion werden aus verschiedenen Blickwinkeln das Zusammenspiel zwischen historischer Flugplatznutzung und der Entwicklung von Flora und Fauna am Flugplatz aufgezeigt. |   | Organisator   Gemeinsame Aktion der Lokalen Agenda 21 - Projektgruppe Natur, Referenten von Delta Image / Deutsches Museum und Bund Naturschutz
LOCATION;CHARSET=UTF-8:Treffpunkt: Brücke im Süden vom Neuen Schloß Schleißheim (Südl. Schloßpavillon)
UID:d5a7ecf17ec17b3d204def8b1d474fe7-8dbb60a24453ee9cef454803cfd7d6c3
PRIORITY:3
END:VEVENT
BEGIN:VEVENT
DTSTAMP:20190708T111310Z
DTSTART:20190724T170000Z
DTEND:20190724T170000Z
CATEGORIES:Veranstaltung
SUMMARY;CHARSET=UTF-8:Auftaktveranstaltung "Verkehrsentwicklungsplan"
DESCRIPTION;CHARSET=UTF-8:Der Verkehrsentwicklungsplan für Oberschleißheim startet - jeder ist eingeladen, bei der Vorstellung des Büros und der Auftaktveranstaltung zu diesem Projekt dabei zu sein.  | Organisator   Gemeinde Oberschleißheim
LOCATION;CHARSET=UTF-8:Bürgersaal
UID:df6024803190d6fdb52f320241441213-104fb611a69a267e9c85ea2b89325a17
PRIORITY:3
END:VEVENT
BEGIN:VEVENT
DTSTAMP:20190722T081628Z
DTSTART:20190726T180000Z
DTEND:20190726T180000Z
CATEGORIES:Verschiedenes
SUMMARY;CHARSET=UTF-8:Open Air-Kino: "Die fabelhafte Welt der Amelie"
DESCRIPTION;CHARSET=UTF-8:Der 2. Film in der Open-Air-Kino-Reihe 2019 ist der schon zum Klassiker gewordene zauberhafte französische Kino-Film: "Die fabelhafte Welt der Amelie". Lachen &amp; Träumen ausdrücklich erlaubt! |   | FSK 0 | Eintritt frei - Stühle sind vorhanden. Bei Regen im Planet 'O'. | Getränke &amp; Popcorn gibt es zu günstigen Preisen im Planet 'O'. | Organisator   Jugendfreizeitstätte Planet O in Kooperation mit der Gemeinde Oberschleißheim
LOCATION;CHARSET=UTF-8:Bürgerplatz
UID:aa672222ab18c4b749b51843965c5a3a-f81a6c4a95c1a3b11bc61436b8556271
PRIORITY:3
END:VEVENT
END:VCALENDAR