BEGIN:VCALENDAR
VERSION:1.0
PRODID:Open2CKalenderExportV11
BEGIN:VEVENT
DTSTAMP:20190313T090413Z
DTSTART:20190328T170000Z
DTEND:20190328T170000Z
CATEGORIES:Ausstellungen
SUMMARY;CHARSET=UTF-8:Kunstausstellung im Rathaus
DESCRIPTION;CHARSET=UTF-8:Theresia Maier: "Kunst ist sichtbar - Sehen Staunen Lieben"  | Ausstellung der Kunstwerke in vielfältigen Techniken, die aus Inspirationen der Umgebung entstanden sind | Ausstellungseröffnung durch Ersten Bürgermeister Christian Kuchlbauer |   | Organisator   Theresia Maier
LOCATION;CHARSET=UTF-8:Rathaus Oberschleißheim, Sitzungssaal
UID:fc73c4184687c4a11f42aa7eaa126be6-9d619f9220c63e6c54def521b74ba0a3
PRIORITY:3
END:VEVENT
END:VCALENDAR