BEGIN:VCALENDAR
VERSION:1.0
PRODID:Open2CKalenderExportV11
BEGIN:VEVENT
DTSTAMP:20190226T101056Z
DTSTART:20190310T150000Z
DTEND:20190310T150000Z
CATEGORIES:Konzerte allgemein
SUMMARY;CHARSET=UTF-8:"Eine musikalische Reise um die Welt" - Suserl trifft Ali
DESCRIPTION;CHARSET=UTF-8:Soiree im Kulturcafe am Huppwald |   | Die Fleckerteppich Musikvereinigung &amp; das Bläserteam der VHS singen und spielen Lieder und Tänze aus aller Welt unter dem Motto: Heimat verbindet Menschen! | Mit Saxophon, Alphorn, Querflöten, Blockflötenensemble, Harfe, Hack\nett, Gitarre und Gesang werden auch Wunschlieder in der jeweiligen Landessprache zum Mitsingen vorgetragen. | Die Gruppe Fleckerlteppich besteht seit 15 Jahren und ist mittlerweile auf das Vierfache angewachsen. Der Name vereinigt die Musikanten der Gruppe Saitenspiel, der Gocklblock Musi und den Birkenstoaner. Ihr Anliegen ist es, möglichst vielen Kindern, Jugendlichen und auch Erwachsenen die Freude am „Musi spuin“ zu vermitteln. Die Abteilungsleiterin, Frau Sigrid M.Süss wird inzwischen von Monika Reichold unterstützt, die die Gruppe Hack\nett und Saitenzopfer leitet und von Laura Kellner, die das Gitarrenensemble übernommen hat. | Das Musikprogramm von Fleckerlteppich spannt einen weiten Bogen von der leichten Klassik über Folklore und Schlager, hinüber zur Kirchenmusik und der Musik unserer Landschaft. |   | Organisator   Gemeinde Oberschleißheim, Kulturteam
LOCATION;CHARSET=UTF-8:AWO Seniorenpark Oberschleißheim
UID:17d06755f3523d12af12a77f88b76a0b-2d1fb0e6bcd6a8afafc95b6415c7e689
PRIORITY:3
END:VEVENT
END:VCALENDAR