BEGIN:VCALENDAR
VERSION:1.0
PRODID:Open2CKalenderExportV11
BEGIN:VEVENT
DTSTAMP:20190109T121937Z
DTSTART:20190407T120000Z
DTEND:20190407T140000Z
CATEGORIES:Wanderungen
SUMMARY;CHARSET=UTF-8:Naturkundliche Führung - Wechselkröten und die Flugwerft - Wanderung
DESCRIPTION;CHARSET=UTF-8:Der Flugplatz Schleißheim ist Lebensraum für bedrohte und äußerst seltene Tiere, wie z.B. die Wechselkröte. Der Rundgang zeigt die Nutzung des damaligen Flugplatzbetriebs, Verstecke für Flugzeuge vor den Angriffen der Alliierten und die dabei künstlich entstandenen Laichplätze für unterschiedliche Amphibien und Insekten.  | Organisator   Lokale Agenda 21 - Projektgruppe Natur, zusammen mit Delta Image
LOCATION;CHARSET=UTF-8:Treffpunkt: Parkplatz südlich der Junkers-Halle, Flugplatz Schleißheim
UID:b3c7ddc747f2258628aa5245ea25fcee-b94176d4e7bc1c63bd803cf7b0f71d69
PRIORITY:3
END:VEVENT
END:VCALENDAR