BEGIN:VCALENDAR
VERSION:1.0
PRODID:Open2CKalenderExportV11
BEGIN:VEVENT
DTSTAMP:20181212T105456Z
DTSTART:20181231T180000Z
DTEND:20181231T180000Z
CATEGORIES:Verschiedenes
SUMMARY;CHARSET=UTF-8:Silvesterball
DESCRIPTION;CHARSET=UTF-8:Silvesterball des Schleißheimer Narrenrats mit Show, Musik &amp; Galabufett | Organisator   Schleißheimer Narrenrat e.V.
LOCATION;CHARSET=UTF-8:Bürgersaal Oberschleißheim
UID:0a9806d95d44732d1015da54bbe5106c-6aab4e5267dabce219e8543f742a08bd
PRIORITY:3
END:VEVENT
END:VCALENDAR