BEGIN:VCALENDAR
VERSION:1.0
PRODID:Open2CKalenderExportV11
BEGIN:VEVENT
DTSTAMP:20181030T144436Z
DTSTART:20181111T150000Z
DTEND:20181111T150000Z
CATEGORIES:Lesung
SUMMARY;CHARSET=UTF-8:Keltische Legenden - Nordische Märchen für Erwachsene
DESCRIPTION;CHARSET=UTF-8:"Der Menschenfischer" und "Das Abendmahl" - diese beiden keltischen Legenden sowie ein russisches Märchen können Sie am Sonntag, 11.11. bei einer besonderen Erzählstunde in der Pfarrkirche St. Wilhelm erleben. Umrahmt werden die Live-Erzählungen von stimmungsvoller Musik. | Herzliche Einladung zu dieser besonderen Stunde! |   | Erzähler: Markus Herzig, Ingeborg Neldner |   | Musik: Gruppe "Saitenspiel" |   | Eintritt frei, Spenden erwünscht. |   | Organisator   Gemeindebücherei St. Wilhelm
LOCATION;CHARSET=UTF-8:Pfarrkirche St. Wilhelm
UID:8078ba5266bfb8f354cb4d3781486a8d-678097a3ed3f2fea59529ec482f99a24
PRIORITY:3
END:VEVENT
BEGIN:VEVENT
DTSTAMP:20181107T145912Z
DTSTART:20181117T180000Z
DTEND:20181117T180000Z
CATEGORIES:Verschiedenes
SUMMARY;CHARSET=UTF-8:Bayerischer Hoagartn
DESCRIPTION;CHARSET=UTF-8:Einladung zum traditionellen Bayerischen Hoagartn des CSU-Ortsverbandes mit den Gesang- und Musikgruppen Frasdorfer Geigenmusi, der Familienmusik Penn, der Familienmusik Königseder und der Hopfawinkl Musi. Sprecher ist Helmut Schweiger. | Der Eintritt ist frei, um Spenden zugunsten der Musiker wird gebeten. | Eine Anmeldung ist nicht erforderlich; Platzreservierungen unter hoagartn@csu-oberschleissheim.de oder steffi@9676@web.de sowie telefonisch unter 089/3154221 oder 089/31577503. | Der Vorstand und die Organisatoren Stefanie Haselbeck und Elisabeth Tutter freuen sich auf zahlreichen Besuch. |   | Organisator   CSU Ortsverband Oberschleißheim
LOCATION;CHARSET=UTF-8:Bürgersaal Oberschleißheim
UID:8ceeb833b52dfe711762c3b24a0459a8-261a4983907a85b7cc3e6092706322b6
PRIORITY:3
END:VEVENT
END:VCALENDAR